BEGIN:VCALENDAR
VERSION:2.0
PRODID:-//cajuncoast.com - ECPv6.15.20//NONSGML v1.0//EN
CALSCALE:GREGORIAN
METHOD:PUBLISH
X-ORIGINAL-URL:https://cajuncoast.com
X-WR-CALDESC:Events for cajuncoast.com
REFRESH-INTERVAL;VALUE=DURATION:PT1H
X-Robots-Tag:noindex
X-PUBLISHED-TTL:PT1H
BEGIN:VTIMEZONE
TZID:America/Chicago
BEGIN:DAYLIGHT
TZOFFSETFROM:-0600
TZOFFSETTO:-0500
TZNAME:CDT
DTSTART:20230312T080000
END:DAYLIGHT
BEGIN:STANDARD
TZOFFSETFROM:-0500
TZOFFSETTO:-0600
TZNAME:CST
DTSTART:20231105T070000
END:STANDARD
BEGIN:DAYLIGHT
TZOFFSETFROM:-0600
TZOFFSETTO:-0500
TZNAME:CDT
DTSTART:20240310T080000
END:DAYLIGHT
BEGIN:STANDARD
TZOFFSETFROM:-0500
TZOFFSETTO:-0600
TZNAME:CST
DTSTART:20241103T070000
END:STANDARD
BEGIN:DAYLIGHT
TZOFFSETFROM:-0600
TZOFFSETTO:-0500
TZNAME:CDT
DTSTART:20250309T080000
END:DAYLIGHT
BEGIN:STANDARD
TZOFFSETFROM:-0500
TZOFFSETTO:-0600
TZNAME:CST
DTSTART:20251102T070000
END:STANDARD
END:VTIMEZONE
BEGIN:VEVENT
DTSTART;TZID=America/Chicago:20241026T100000
DTEND;TZID=America/Chicago:20241026T160000
DTSTAMP:20260419T204853
CREATED:20240814T160617Z
LAST-MODIFIED:20240930T155847Z
UID:10002566-1729936800-1729958400@cajuncoast.com
SUMMARY:Louisiana Cane Syrup Heritage Expo
DESCRIPTION:Hosted by Louisiana Cane Syrup Heritage Expo.\nIf you know folks who make cane syrup the old way\, we are seeking more folks to take part.\nThe event takes place in conjunction with the annual Harvest Moon Festival in\nDowntown Franklin\, a great event for young and old!\nFrom 10am – 4 pm on 600 Main Street Franklin.
URL:https://cajuncoast.com/event/louisiana-can-syrup-heritage-expo/
LOCATION:Historic Downtown Franklin\, Franklin\, LA\, 70538\, United States
ATTACH;FMTTYPE=image/jpeg:https://cajuncoast.com/wp-content/uploads/2024/08/Cane-Syrup-Heritage-Expo-e1727711914195.jpg
ORGANIZER;CN="Louisiana Cane Syrup Heritage Expo":MAILTO:Louisianacanesyrup@gmail.com
END:VEVENT
END:VCALENDAR