BEGIN:VCALENDAR
VERSION:2.0
PRODID:-//cajuncoast.com - ECPv6.15.20//NONSGML v1.0//EN
CALSCALE:GREGORIAN
METHOD:PUBLISH
X-ORIGINAL-URL:https://cajuncoast.com
X-WR-CALDESC:Events for cajuncoast.com
REFRESH-INTERVAL;VALUE=DURATION:PT1H
X-Robots-Tag:noindex
X-PUBLISHED-TTL:PT1H
BEGIN:VTIMEZONE
TZID:America/Chicago
BEGIN:DAYLIGHT
TZOFFSETFROM:-0600
TZOFFSETTO:-0500
TZNAME:CDT
DTSTART:20240310T080000
END:DAYLIGHT
BEGIN:STANDARD
TZOFFSETFROM:-0500
TZOFFSETTO:-0600
TZNAME:CST
DTSTART:20241103T070000
END:STANDARD
BEGIN:DAYLIGHT
TZOFFSETFROM:-0600
TZOFFSETTO:-0500
TZNAME:CDT
DTSTART:20250309T080000
END:DAYLIGHT
BEGIN:STANDARD
TZOFFSETFROM:-0500
TZOFFSETTO:-0600
TZNAME:CST
DTSTART:20251102T070000
END:STANDARD
BEGIN:DAYLIGHT
TZOFFSETFROM:-0600
TZOFFSETTO:-0500
TZNAME:CDT
DTSTART:20260308T080000
END:DAYLIGHT
BEGIN:STANDARD
TZOFFSETFROM:-0500
TZOFFSETTO:-0600
TZNAME:CST
DTSTART:20261101T070000
END:STANDARD
BEGIN:DAYLIGHT
TZOFFSETFROM:-0600
TZOFFSETTO:-0500
TZNAME:CDT
DTSTART:20270314T080000
END:DAYLIGHT
BEGIN:STANDARD
TZOFFSETFROM:-0500
TZOFFSETTO:-0600
TZNAME:CST
DTSTART:20271107T070000
END:STANDARD
END:VTIMEZONE
BEGIN:VEVENT
DTSTART;TZID=America/Chicago:20260404T100000
DTEND;TZID=America/Chicago:20260404T140000
DTSTAMP:20260421T132617
CREATED:20251009T163359Z
LAST-MODIFIED:20260113T200044Z
UID:10006747-1775296800-1775311200@cajuncoast.com
SUMMARY:Plantiful Vibes Farmers Market
DESCRIPTION:Open to all! We’re so excited to bring you the best of local\, fresh produce\, homemade goods\, and a great community vibe. The market is open every weekend from 10 am- 2 pm at 1115 First Street\, Patterson La. 70392. Come support local farmers and artisans while enjoying a fun\, family-friendly atmosphere. Stay tuned for regular updates\, vendor spotlights\, and special market events! For more information\, contact T’ala at 337-339-1992. Now Accepting Licensed Vendors.
URL:https://cajuncoast.com/event/plantiful-vibes-farmers-market-3/2026-04-04/
LOCATION:Plantiful Vibes Farmers Market\, 1115 1st St\, Patterson\, LA\, 70392\, United States
ATTACH;FMTTYPE=image/jpeg:https://cajuncoast.com/wp-content/uploads/2025/10/Plantifulvibes-Cajun-Coast-e1760027626163.jpg
ORGANIZER;CN="Plantifulvibes Farmers Market":MAILTO:Plantifulvibes@gmail.com
END:VEVENT
BEGIN:VEVENT
DTSTART;TZID=America/Chicago:20260314T180000
DTEND;TZID=America/Chicago:20260314T210000
DTSTAMP:20260421T132617
CREATED:20260109T192911Z
LAST-MODIFIED:20260109T192911Z
UID:10006700-1773511200-1773522000@cajuncoast.com
SUMMARY:Night Art Show
DESCRIPTION:Hosted by PlantifulVibes Farmers Market.\nAn evening filled with art\, poetry\, creativity\, 7 community vibes.\nCome support local artists\, poets\, & creators & experience the market after dark.\nBring a friend\, bring your energy\, 7 come be inspired.\nGeneral Admission: $15. Students: $10.
URL:https://cajuncoast.com/event/night-art-show/
LOCATION:Plantiful Vibes Farmers Market\, 1115 1st St\, Patterson\, LA\, 70392\, United States
ATTACH;FMTTYPE=image/jpeg:https://cajuncoast.com/wp-content/uploads/2026/01/Night-Art-Sow-cajun-coast-e1767986937324.jpg
ORGANIZER;CN="Plantifulvibes Farmers Market":MAILTO:Plantifulvibes@gmail.com
END:VEVENT
BEGIN:VEVENT
DTSTART;TZID=America/Chicago:20260307T100000
DTEND;TZID=America/Chicago:20260307T140000
DTSTAMP:20260421T132617
CREATED:20251009T163359Z
LAST-MODIFIED:20260113T200044Z
UID:10006746-1772877600-1772892000@cajuncoast.com
SUMMARY:Plantiful Vibes Farmers Market
DESCRIPTION:Open to all! We’re so excited to bring you the best of local\, fresh produce\, homemade goods\, and a great community vibe. The market is open every weekend from 10 am- 2 pm at 1115 First Street\, Patterson La. 70392. Come support local farmers and artisans while enjoying a fun\, family-friendly atmosphere. Stay tuned for regular updates\, vendor spotlights\, and special market events! For more information\, contact T’ala at 337-339-1992. Now Accepting Licensed Vendors.
URL:https://cajuncoast.com/event/plantiful-vibes-farmers-market-3/2026-03-07/
LOCATION:Plantiful Vibes Farmers Market\, 1115 1st St\, Patterson\, LA\, 70392\, United States
ATTACH;FMTTYPE=image/jpeg:https://cajuncoast.com/wp-content/uploads/2025/10/Plantifulvibes-Cajun-Coast-e1760027626163.jpg
ORGANIZER;CN="Plantifulvibes Farmers Market":MAILTO:Plantifulvibes@gmail.com
END:VEVENT
BEGIN:VEVENT
DTSTART;TZID=America/Chicago:20260207T100000
DTEND;TZID=America/Chicago:20260207T140000
DTSTAMP:20260421T132617
CREATED:20251009T163359Z
LAST-MODIFIED:20260113T200044Z
UID:10006745-1770458400-1770472800@cajuncoast.com
SUMMARY:Plantiful Vibes Farmers Market
DESCRIPTION:Open to all! We’re so excited to bring you the best of local\, fresh produce\, homemade goods\, and a great community vibe. The market is open every weekend from 10 am- 2 pm at 1115 First Street\, Patterson La. 70392. Come support local farmers and artisans while enjoying a fun\, family-friendly atmosphere. Stay tuned for regular updates\, vendor spotlights\, and special market events! For more information\, contact T’ala at 337-339-1992. Now Accepting Licensed Vendors.
URL:https://cajuncoast.com/event/plantiful-vibes-farmers-market-3/2026-02-07/
LOCATION:Plantiful Vibes Farmers Market\, 1115 1st St\, Patterson\, LA\, 70392\, United States
ATTACH;FMTTYPE=image/jpeg:https://cajuncoast.com/wp-content/uploads/2025/10/Plantifulvibes-Cajun-Coast-e1760027626163.jpg
ORGANIZER;CN="Plantifulvibes Farmers Market":MAILTO:Plantifulvibes@gmail.com
END:VEVENT
BEGIN:VEVENT
DTSTART;TZID=America/Chicago:20260103T100000
DTEND;TZID=America/Chicago:20260103T140000
DTSTAMP:20260421T132617
CREATED:20251009T163359Z
LAST-MODIFIED:20260113T200044Z
UID:10006744-1767434400-1767448800@cajuncoast.com
SUMMARY:Plantiful Vibes Farmers Market
DESCRIPTION:Open to all! We’re so excited to bring you the best of local\, fresh produce\, homemade goods\, and a great community vibe. The market is open every weekend from 10 am- 2 pm at 1115 First Street\, Patterson La. 70392. Come support local farmers and artisans while enjoying a fun\, family-friendly atmosphere. Stay tuned for regular updates\, vendor spotlights\, and special market events! For more information\, contact T’ala at 337-339-1992. Now Accepting Licensed Vendors.
URL:https://cajuncoast.com/event/plantiful-vibes-farmers-market-3/2026-01-03/
LOCATION:Plantiful Vibes Farmers Market\, 1115 1st St\, Patterson\, LA\, 70392\, United States
ATTACH;FMTTYPE=image/jpeg:https://cajuncoast.com/wp-content/uploads/2025/10/Plantifulvibes-Cajun-Coast-e1760027626163.jpg
ORGANIZER;CN="Plantifulvibes Farmers Market":MAILTO:Plantifulvibes@gmail.com
END:VEVENT
BEGIN:VEVENT
DTSTART;TZID=America/Chicago:20251206T100000
DTEND;TZID=America/Chicago:20251206T140000
DTSTAMP:20260421T132617
CREATED:20251009T163359Z
LAST-MODIFIED:20260113T200044Z
UID:10006743-1765015200-1765029600@cajuncoast.com
SUMMARY:Plantiful Vibes Farmers Market
DESCRIPTION:Open to all! We’re so excited to bring you the best of local\, fresh produce\, homemade goods\, and a great community vibe. The market is open every weekend from 10 am- 2 pm at 1115 First Street\, Patterson La. 70392. Come support local farmers and artisans while enjoying a fun\, family-friendly atmosphere. Stay tuned for regular updates\, vendor spotlights\, and special market events! For more information\, contact T’ala at 337-339-1992. Now Accepting Licensed Vendors.
URL:https://cajuncoast.com/event/plantiful-vibes-farmers-market-3/2025-12-06/
LOCATION:Plantiful Vibes Farmers Market\, 1115 1st St\, Patterson\, LA\, 70392\, United States
ATTACH;FMTTYPE=image/jpeg:https://cajuncoast.com/wp-content/uploads/2025/10/Plantifulvibes-Cajun-Coast-e1760027626163.jpg
ORGANIZER;CN="Plantifulvibes Farmers Market":MAILTO:Plantifulvibes@gmail.com
END:VEVENT
BEGIN:VEVENT
DTSTART;TZID=America/Chicago:20251122T100000
DTEND;TZID=America/Chicago:20251122T140000
DTSTAMP:20260421T132617
CREATED:20251114T171523Z
LAST-MODIFIED:20251114T171523Z
UID:10006560-1763805600-1763820000@cajuncoast.com
SUMMARY:Community Barter Day
DESCRIPTION:Bring what you have\, trade for what you need!\nThis special day is all about community\, connection\, and exchange.\nWhether it’s:\nFresh produce\nClothes\nBooks\nHomemade goods\nHousehold items\n… come swap and support each other in\na spirit of giving and sharing.
URL:https://cajuncoast.com/event/community-barter-day/
LOCATION:Plantifulvibes Farmers Market\, 1115 First Street\, Patterson\, LA\, 70392\, United States
ATTACH;FMTTYPE=image/jpeg:https://cajuncoast.com/wp-content/uploads/2025/11/Community-Barter-Day-Cajun-Coast-e1763140209174.jpg
ORGANIZER;CN="Plantifulvibes Farmers Market":MAILTO:Plantifulvibes@gmail.com
END:VEVENT
BEGIN:VEVENT
DTSTART;TZID=America/Chicago:20251101T100000
DTEND;TZID=America/Chicago:20251101T140000
DTSTAMP:20260421T132617
CREATED:20251009T163359Z
LAST-MODIFIED:20260113T200044Z
UID:10006742-1761991200-1762005600@cajuncoast.com
SUMMARY:Plantiful Vibes Farmers Market
DESCRIPTION:Open to all! We’re so excited to bring you the best of local\, fresh produce\, homemade goods\, and a great community vibe. The market is open every weekend from 10 am- 2 pm at 1115 First Street\, Patterson La. 70392. Come support local farmers and artisans while enjoying a fun\, family-friendly atmosphere. Stay tuned for regular updates\, vendor spotlights\, and special market events! For more information\, contact T’ala at 337-339-1992. Now Accepting Licensed Vendors.
URL:https://cajuncoast.com/event/plantiful-vibes-farmers-market-3/2025-11-01/
LOCATION:Plantiful Vibes Farmers Market\, 1115 1st St\, Patterson\, LA\, 70392\, United States
ATTACH;FMTTYPE=image/jpeg:https://cajuncoast.com/wp-content/uploads/2025/10/Plantifulvibes-Cajun-Coast-e1760027626163.jpg
ORGANIZER;CN="Plantifulvibes Farmers Market":MAILTO:Plantifulvibes@gmail.com
END:VEVENT
BEGIN:VEVENT
DTSTART;TZID=America/Chicago:20251004T100000
DTEND;TZID=America/Chicago:20251004T140000
DTSTAMP:20260421T132617
CREATED:20251009T163359Z
LAST-MODIFIED:20260113T200044Z
UID:10006741-1759572000-1759586400@cajuncoast.com
SUMMARY:Plantiful Vibes Farmers Market
DESCRIPTION:Open to all! We’re so excited to bring you the best of local\, fresh produce\, homemade goods\, and a great community vibe. The market is open every weekend from 10 am- 2 pm at 1115 First Street\, Patterson La. 70392. Come support local farmers and artisans while enjoying a fun\, family-friendly atmosphere. Stay tuned for regular updates\, vendor spotlights\, and special market events! For more information\, contact T’ala at 337-339-1992. Now Accepting Licensed Vendors.
URL:https://cajuncoast.com/event/plantiful-vibes-farmers-market-3/2025-10-04/
LOCATION:Plantiful Vibes Farmers Market\, 1115 1st St\, Patterson\, LA\, 70392\, United States
ATTACH;FMTTYPE=image/jpeg:https://cajuncoast.com/wp-content/uploads/2025/10/Plantifulvibes-Cajun-Coast-e1760027626163.jpg
ORGANIZER;CN="Plantifulvibes Farmers Market":MAILTO:Plantifulvibes@gmail.com
END:VEVENT
BEGIN:VEVENT
DTSTART;TZID=America/Chicago:20251004T100000
DTEND;TZID=America/Chicago:20251004T140000
DTSTAMP:20260421T132617
CREATED:20251002T163726Z
LAST-MODIFIED:20251002T163933Z
UID:10006247-1759572000-1759586400@cajuncoast.com
SUMMARY:Plantiful Vibes Farmers Market
DESCRIPTION:“PlantifulVibes” Farmers Market. Open to all!\nWe’re so excited to bring you the best of local\, fresh produce\, homemade goods\, and a great community vibe.\nCome support local farmers and artisans while enjoying a fun\, family-friendly atmosphere.\nStay tuned for regular updates\, vendor spotlights\, and special market events!\nFor more information contact T’ala at 337-339-1992.\nVendors wanted!!!
URL:https://cajuncoast.com/event/plantiful-vibes-farmers-market-2/
LOCATION:Plantiful Vibes Farmers Market\, 1115 1st St\, Patterson\, LA\, 70392\, United States
ATTACH;FMTTYPE=image/jpeg:https://cajuncoast.com/wp-content/uploads/2025/09/Farmers-Market-Plantiful-Vibes-Cajun-Coast-e1759423029666.jpg
ORGANIZER;CN="Plantifulvibes Farmers Market":MAILTO:Plantifulvibes@gmail.com
END:VEVENT
BEGIN:VEVENT
DTSTART;TZID=America/Chicago:20250614T100000
DTEND;TZID=America/Chicago:20250614T160000
DTSTAMP:20260421T132617
CREATED:20250509T161629Z
LAST-MODIFIED:20250509T161629Z
UID:10004931-1749895200-1749916800@cajuncoast.com
SUMMARY:Grand Opening
DESCRIPTION:“Plantifulvibes” Farmers Market. Open to all!\nWe’re so excited to bring you the best of local\, fresh produce\, homemade goods\, and a great community vibe.\nThe market is open every weekend from 10 am- 4 pm at 1115 First Street\, Patterson La. 70392.\nCome support local farmers and artisans while enjoying a fun\, family-friendly atmosphere.\nStay tuned for regular updates\, vendor spotlights\, and special market events!\nFor more information contact T’ala at 337-339-1992. Now Accepting Licensed Vendors.
URL:https://cajuncoast.com/event/grand-opening/
LOCATION:Plantifulvibes Farmers Market\, 1115 First Street\, Patterson\, LA\, 70392\, United States
ATTACH;FMTTYPE=image/jpeg:https://cajuncoast.com/wp-content/uploads/2025/05/Grand-Opening-cajun-coast-e1746807383733.jpg
ORGANIZER;CN="Plantifulvibes Farmers Market":MAILTO:Plantifulvibes@gmail.com
END:VEVENT
END:VCALENDAR