BEGIN:VCALENDAR
VERSION:2.0
PRODID:-//cajuncoast.com - ECPv6.15.20//NONSGML v1.0//EN
CALSCALE:GREGORIAN
METHOD:PUBLISH
X-WR-CALNAME:cajuncoast.com
X-ORIGINAL-URL:https://cajuncoast.com
X-WR-CALDESC:Events for cajuncoast.com
REFRESH-INTERVAL;VALUE=DURATION:PT1H
X-Robots-Tag:noindex
X-PUBLISHED-TTL:PT1H
BEGIN:VTIMEZONE
TZID:America/Chicago
BEGIN:DAYLIGHT
TZOFFSETFROM:-0600
TZOFFSETTO:-0500
TZNAME:CDT
DTSTART:20240310T080000
END:DAYLIGHT
BEGIN:STANDARD
TZOFFSETFROM:-0500
TZOFFSETTO:-0600
TZNAME:CST
DTSTART:20241103T070000
END:STANDARD
BEGIN:DAYLIGHT
TZOFFSETFROM:-0600
TZOFFSETTO:-0500
TZNAME:CDT
DTSTART:20250309T080000
END:DAYLIGHT
BEGIN:STANDARD
TZOFFSETFROM:-0500
TZOFFSETTO:-0600
TZNAME:CST
DTSTART:20251102T070000
END:STANDARD
BEGIN:DAYLIGHT
TZOFFSETFROM:-0600
TZOFFSETTO:-0500
TZNAME:CDT
DTSTART:20260308T080000
END:DAYLIGHT
BEGIN:STANDARD
TZOFFSETFROM:-0500
TZOFFSETTO:-0600
TZNAME:CST
DTSTART:20261101T070000
END:STANDARD
END:VTIMEZONE
BEGIN:VEVENT
DTSTART;TZID=America/Chicago:20250420T150000
DTEND;TZID=America/Chicago:20250420T170000
DTSTAMP:20260420T030815
CREATED:20250415T191903Z
LAST-MODIFIED:20250415T191903Z
UID:10004817-1745161200-1745168400@cajuncoast.com
SUMMARY:Rhodes & Rhodes Production: The Color Purple
DESCRIPTION:Rhodes & Rhodes Production: The Color Purple is making its way to Morgan City to celebrate their 5-year anniversary!\nRhodes & Rhodes Production is a Nationally Ranked Performing Arts Studio that offers accessible and inclusive\ntheatre experiences and are dedicated to creating “magic” through their productions.\nApril 19th at 6 pm and April 20th at 3 pm. Meet at the Morgan City Municipal Theater; 728 Myrtle Street.\nYou can purchase tickets online for $30 + tax by going to: https://rhodesprod.Book.com/ or purchase tickets at door for $35.
URL:https://cajuncoast.com/event/rhodes-rhodes-production-the-color-purple/2025-04-20/
LOCATION:Morgan City Municipal Auditorium\, 728 Myrtle St.\, Morgan City\, LA\, 70380\, United States
ATTACH;FMTTYPE=image/jpeg:https://cajuncoast.com/wp-content/uploads/2025/04/Rhodes-Rhodes-Production-cajun-coast-e1744313005418.jpg
ORGANIZER;CN="Rhodes &amp%3B Rhodes Production":MAILTO:Lauren.rhodes@dillard.edu
END:VEVENT
BEGIN:VEVENT
DTSTART;TZID=America/Chicago:20250419T180000
DTEND;TZID=America/Chicago:20250419T200000
DTSTAMP:20260420T030815
CREATED:20250415T191903Z
LAST-MODIFIED:20250415T191903Z
UID:10004816-1745085600-1745092800@cajuncoast.com
SUMMARY:Rhodes & Rhodes Production: The Color Purple
DESCRIPTION:Rhodes & Rhodes Production: The Color Purple is making its way to Morgan City to celebrate their 5-year anniversary!\nRhodes & Rhodes Production is a Nationally Ranked Performing Arts Studio that offers accessible and inclusive\ntheatre experiences and are dedicated to creating “magic” through their productions.\nApril 19th at 6 pm and April 20th at 3 pm. Meet at the Morgan City Municipal Theater; 728 Myrtle Street.\nYou can purchase tickets online for $30 + tax by going to: https://rhodesprod.Book.com/ or purchase tickets at door for $35.
URL:https://cajuncoast.com/event/rhodes-rhodes-production-the-color-purple/2025-04-19/
LOCATION:Morgan City Municipal Auditorium\, 728 Myrtle St.\, Morgan City\, LA\, 70380\, United States
ATTACH;FMTTYPE=image/jpeg:https://cajuncoast.com/wp-content/uploads/2025/04/Rhodes-Rhodes-Production-cajun-coast-e1744313005418.jpg
ORGANIZER;CN="Rhodes &amp%3B Rhodes Production":MAILTO:Lauren.rhodes@dillard.edu
END:VEVENT
END:VCALENDAR