BEGIN:VCALENDAR
VERSION:2.0
PRODID:-//cajuncoast.com - ECPv6.15.20//NONSGML v1.0//EN
CALSCALE:GREGORIAN
METHOD:PUBLISH
X-WR-CALNAME:cajuncoast.com
X-ORIGINAL-URL:https://cajuncoast.com
X-WR-CALDESC:Events for cajuncoast.com
REFRESH-INTERVAL;VALUE=DURATION:PT1H
X-Robots-Tag:noindex
X-PUBLISHED-TTL:PT1H
BEGIN:VTIMEZONE
TZID:America/Chicago
BEGIN:DAYLIGHT
TZOFFSETFROM:-0600
TZOFFSETTO:-0500
TZNAME:CDT
DTSTART:20230312T080000
END:DAYLIGHT
BEGIN:STANDARD
TZOFFSETFROM:-0500
TZOFFSETTO:-0600
TZNAME:CST
DTSTART:20231105T070000
END:STANDARD
BEGIN:DAYLIGHT
TZOFFSETFROM:-0600
TZOFFSETTO:-0500
TZNAME:CDT
DTSTART:20240310T080000
END:DAYLIGHT
BEGIN:STANDARD
TZOFFSETFROM:-0500
TZOFFSETTO:-0600
TZNAME:CST
DTSTART:20241103T070000
END:STANDARD
BEGIN:DAYLIGHT
TZOFFSETFROM:-0600
TZOFFSETTO:-0500
TZNAME:CDT
DTSTART:20250309T080000
END:DAYLIGHT
BEGIN:STANDARD
TZOFFSETFROM:-0500
TZOFFSETTO:-0600
TZNAME:CST
DTSTART:20251102T070000
END:STANDARD
END:VTIMEZONE
BEGIN:VEVENT
DTSTART;TZID=America/Chicago:20241029T170000
DTEND;TZID=America/Chicago:20241029T200000
DTSTAMP:20260423T094609
CREATED:20241009T192216Z
LAST-MODIFIED:20241009T192216Z
UID:10003149-1730221200-1730232000@cajuncoast.com
SUMMARY:Motivation for Life - A Night with LSU Baseball Coach Jay Johnson
DESCRIPTION:The St. Mary Outreach will host Motivation for Life – A Night with LSU Baseball Coach Jay Johnson.  Master of Ceremonies will be Mr. Seth Thomas.  On Tuesday\, October  29\, 2024\, at the Petroleum Club of Morgan City.  Cocktails will be from 5 pm to 7 pm\, Dinner will be at 7 pm.  Complimentary wine and a cash bar will be available.  A silent auction will be held from 5 pm to 7 pm.  Tickets are $75.00 -$600.00 for a table of 8.  Tickets can be purchased at the Wildflower Boutique and the Alumni Shop for Him and Her.
URL:https://cajuncoast.com/event/motivation-for-life-a-night-with-lsu-baseball-coach-jay-johnson/
LOCATION:Petroleum Club of Morgan City\, 500 Roderick Street\, Morgan City\, LA\, 70380\, United States
ORGANIZER;CN="St. Mary Outreach":MAILTO:stmaryoutreach@atvci.net
END:VEVENT
END:VCALENDAR