BEGIN:VCALENDAR
VERSION:2.0
PRODID:-//cajuncoast.com - ECPv6.15.20//NONSGML v1.0//EN
CALSCALE:GREGORIAN
METHOD:PUBLISH
X-ORIGINAL-URL:https://cajuncoast.com
X-WR-CALDESC:Events for cajuncoast.com
REFRESH-INTERVAL;VALUE=DURATION:PT1H
X-Robots-Tag:noindex
X-PUBLISHED-TTL:PT1H
BEGIN:VTIMEZONE
TZID:America/Chicago
BEGIN:DAYLIGHT
TZOFFSETFROM:-0600
TZOFFSETTO:-0500
TZNAME:CDT
DTSTART:20240310T080000
END:DAYLIGHT
BEGIN:STANDARD
TZOFFSETFROM:-0500
TZOFFSETTO:-0600
TZNAME:CST
DTSTART:20241103T070000
END:STANDARD
BEGIN:DAYLIGHT
TZOFFSETFROM:-0600
TZOFFSETTO:-0500
TZNAME:CDT
DTSTART:20250309T080000
END:DAYLIGHT
BEGIN:STANDARD
TZOFFSETFROM:-0500
TZOFFSETTO:-0600
TZNAME:CST
DTSTART:20251102T070000
END:STANDARD
BEGIN:DAYLIGHT
TZOFFSETFROM:-0600
TZOFFSETTO:-0500
TZNAME:CDT
DTSTART:20260308T080000
END:DAYLIGHT
BEGIN:STANDARD
TZOFFSETFROM:-0500
TZOFFSETTO:-0600
TZNAME:CST
DTSTART:20261101T070000
END:STANDARD
END:VTIMEZONE
BEGIN:VEVENT
DTSTART;TZID=America/Chicago:20250724T180000
DTEND;TZID=America/Chicago:20250724T200000
DTSTAMP:20260422T232127
CREATED:20250717T160557Z
LAST-MODIFIED:20250717T160557Z
UID:10005044-1753380000-1753387200@cajuncoast.com
SUMMARY:Blue Crew Kids Night
DESCRIPTION:Blue Crew Kids Night at West St. Mary Civic Center.\nDoors open at 5:30 pm and the show starts at 6 pm.\nTheir bringing the fun\, the food and a virtual performance from illusionist Rakin Malayath\,\nthe undisputed King of “How Did He Do That?!”\nHis sleigh-of-hand skills will have your kids (and maybe even you) scratching their heads in awe.\nCome join the night for a night of summer fun featuring: A cool K9 demonstration\, Hot dogs\,\ncold drinks and plenty of snacks\, Mind-blowing slight-of-hand tricks\, and two Jump Houses for the kids to enjoy!\nBring the whole family and make this a summer night to remember!
URL:https://cajuncoast.com/event/blue-crew-kids-night/
LOCATION:West St. Mary Civic Center\, 1472 LA 318\, Jeanerette\, LA\, 70544\, United States
ATTACH;FMTTYPE=image/jpeg:https://cajuncoast.com/wp-content/uploads/2025/07/Blue-Crew-Kid-Nights-cajun-coast-e1752768338648.jpg
ORGANIZER;CN="St. Mary Parish Sheriff's Office":MAILTO:pio@st.maryso.com
END:VEVENT
END:VCALENDAR