BEGIN:VCALENDAR
VERSION:2.0
PRODID:-//cajuncoast.com - ECPv6.15.20//NONSGML v1.0//EN
CALSCALE:GREGORIAN
METHOD:PUBLISH
X-ORIGINAL-URL:https://cajuncoast.com
X-WR-CALDESC:Events for cajuncoast.com
REFRESH-INTERVAL;VALUE=DURATION:PT1H
X-Robots-Tag:noindex
X-PUBLISHED-TTL:PT1H
BEGIN:VTIMEZONE
TZID:America/Chicago
BEGIN:DAYLIGHT
TZOFFSETFROM:-0600
TZOFFSETTO:-0500
TZNAME:CDT
DTSTART:20280312T080000
END:DAYLIGHT
BEGIN:STANDARD
TZOFFSETFROM:-0500
TZOFFSETTO:-0600
TZNAME:CST
DTSTART:20281105T070000
END:STANDARD
BEGIN:DAYLIGHT
TZOFFSETFROM:-0600
TZOFFSETTO:-0500
TZNAME:CDT
DTSTART:20290311T080000
END:DAYLIGHT
BEGIN:STANDARD
TZOFFSETFROM:-0500
TZOFFSETTO:-0600
TZNAME:CST
DTSTART:20291104T070000
END:STANDARD
BEGIN:DAYLIGHT
TZOFFSETFROM:-0600
TZOFFSETTO:-0500
TZNAME:CDT
DTSTART:20300310T080000
END:DAYLIGHT
BEGIN:STANDARD
TZOFFSETFROM:-0500
TZOFFSETTO:-0600
TZNAME:CST
DTSTART:20301103T070000
END:STANDARD
BEGIN:DAYLIGHT
TZOFFSETFROM:-0600
TZOFFSETTO:-0500
TZNAME:CDT
DTSTART:20310309T080000
END:DAYLIGHT
BEGIN:STANDARD
TZOFFSETFROM:-0500
TZOFFSETTO:-0600
TZNAME:CST
DTSTART:20311102T070000
END:STANDARD
END:VTIMEZONE
BEGIN:VEVENT
DTSTART;TZID=America/Chicago:20290512T100000
DTEND;TZID=America/Chicago:20290512T140000
DTSTAMP:20260421T062547
CREATED:20250113T214704Z
LAST-MODIFIED:20250116T203514Z
UID:10004258-1873274400-1873288800@cajuncoast.com
SUMMARY:Stephensville Market
DESCRIPTION:Enjoy arts\, crafts\, hot food\, fresh produce\, and sweets!
URL:https://cajuncoast.com/event/stephensville-market-2-3/2029-05-12/
LOCATION:Doiron Memorial Park (Formerly Stephensville Park)\, 3257 Hwy 70\, Stephensville\, LA\, 70380\, United States
ATTACH;FMTTYPE=image/jpeg:https://cajuncoast.com/wp-content/uploads/2024/08/Stephensville-Market-e1727709680610.jpg
END:VEVENT
BEGIN:VEVENT
DTSTART;TZID=America/Chicago:20290609T100000
DTEND;TZID=America/Chicago:20290609T140000
DTSTAMP:20260421T062547
CREATED:20250113T214704Z
LAST-MODIFIED:20250116T203514Z
UID:10004259-1875693600-1875708000@cajuncoast.com
SUMMARY:Stephensville Market
DESCRIPTION:Enjoy arts\, crafts\, hot food\, fresh produce\, and sweets!
URL:https://cajuncoast.com/event/stephensville-market-2-3/2029-06-09/
LOCATION:Doiron Memorial Park (Formerly Stephensville Park)\, 3257 Hwy 70\, Stephensville\, LA\, 70380\, United States
ATTACH;FMTTYPE=image/jpeg:https://cajuncoast.com/wp-content/uploads/2024/08/Stephensville-Market-e1727709680610.jpg
END:VEVENT
BEGIN:VEVENT
DTSTART;TZID=America/Chicago:20290714T100000
DTEND;TZID=America/Chicago:20290714T140000
DTSTAMP:20260421T062547
CREATED:20250113T214704Z
LAST-MODIFIED:20250116T203514Z
UID:10004260-1878717600-1878732000@cajuncoast.com
SUMMARY:Stephensville Market
DESCRIPTION:Enjoy arts\, crafts\, hot food\, fresh produce\, and sweets!
URL:https://cajuncoast.com/event/stephensville-market-2-3/2029-07-14/
LOCATION:Doiron Memorial Park (Formerly Stephensville Park)\, 3257 Hwy 70\, Stephensville\, LA\, 70380\, United States
ATTACH;FMTTYPE=image/jpeg:https://cajuncoast.com/wp-content/uploads/2024/08/Stephensville-Market-e1727709680610.jpg
END:VEVENT
BEGIN:VEVENT
DTSTART;TZID=America/Chicago:20290811T100000
DTEND;TZID=America/Chicago:20290811T140000
DTSTAMP:20260421T062547
CREATED:20250113T214704Z
LAST-MODIFIED:20250116T203514Z
UID:10004261-1881136800-1881151200@cajuncoast.com
SUMMARY:Stephensville Market
DESCRIPTION:Enjoy arts\, crafts\, hot food\, fresh produce\, and sweets!
URL:https://cajuncoast.com/event/stephensville-market-2-3/2029-08-11/
LOCATION:Doiron Memorial Park (Formerly Stephensville Park)\, 3257 Hwy 70\, Stephensville\, LA\, 70380\, United States
ATTACH;FMTTYPE=image/jpeg:https://cajuncoast.com/wp-content/uploads/2024/08/Stephensville-Market-e1727709680610.jpg
END:VEVENT
BEGIN:VEVENT
DTSTART;TZID=America/Chicago:20290908T100000
DTEND;TZID=America/Chicago:20290908T140000
DTSTAMP:20260421T062547
CREATED:20250113T214704Z
LAST-MODIFIED:20250116T203514Z
UID:10004262-1883556000-1883570400@cajuncoast.com
SUMMARY:Stephensville Market
DESCRIPTION:Enjoy arts\, crafts\, hot food\, fresh produce\, and sweets!
URL:https://cajuncoast.com/event/stephensville-market-2-3/2029-09-08/
LOCATION:Doiron Memorial Park (Formerly Stephensville Park)\, 3257 Hwy 70\, Stephensville\, LA\, 70380\, United States
ATTACH;FMTTYPE=image/jpeg:https://cajuncoast.com/wp-content/uploads/2024/08/Stephensville-Market-e1727709680610.jpg
END:VEVENT
BEGIN:VEVENT
DTSTART;TZID=America/Chicago:20291013T100000
DTEND;TZID=America/Chicago:20291013T140000
DTSTAMP:20260421T062547
CREATED:20250113T214704Z
LAST-MODIFIED:20250116T203514Z
UID:10004263-1886580000-1886594400@cajuncoast.com
SUMMARY:Stephensville Market
DESCRIPTION:Enjoy arts\, crafts\, hot food\, fresh produce\, and sweets!
URL:https://cajuncoast.com/event/stephensville-market-2-3/2029-10-13/
LOCATION:Doiron Memorial Park (Formerly Stephensville Park)\, 3257 Hwy 70\, Stephensville\, LA\, 70380\, United States
ATTACH;FMTTYPE=image/jpeg:https://cajuncoast.com/wp-content/uploads/2024/08/Stephensville-Market-e1727709680610.jpg
END:VEVENT
BEGIN:VEVENT
DTSTART;TZID=America/Chicago:20291110T100000
DTEND;TZID=America/Chicago:20291110T140000
DTSTAMP:20260421T062547
CREATED:20250113T214704Z
LAST-MODIFIED:20250116T203514Z
UID:10004264-1888999200-1889013600@cajuncoast.com
SUMMARY:Stephensville Market
DESCRIPTION:Enjoy arts\, crafts\, hot food\, fresh produce\, and sweets!
URL:https://cajuncoast.com/event/stephensville-market-2-3/2029-11-10/
LOCATION:Doiron Memorial Park (Formerly Stephensville Park)\, 3257 Hwy 70\, Stephensville\, LA\, 70380\, United States
ATTACH;FMTTYPE=image/jpeg:https://cajuncoast.com/wp-content/uploads/2024/08/Stephensville-Market-e1727709680610.jpg
END:VEVENT
BEGIN:VEVENT
DTSTART;TZID=America/Chicago:20291208T100000
DTEND;TZID=America/Chicago:20291208T140000
DTSTAMP:20260421T062547
CREATED:20250113T214704Z
LAST-MODIFIED:20250116T203514Z
UID:10004265-1891418400-1891432800@cajuncoast.com
SUMMARY:Stephensville Market
DESCRIPTION:Enjoy arts\, crafts\, hot food\, fresh produce\, and sweets!
URL:https://cajuncoast.com/event/stephensville-market-2-3/2029-12-08/
LOCATION:Doiron Memorial Park (Formerly Stephensville Park)\, 3257 Hwy 70\, Stephensville\, LA\, 70380\, United States
ATTACH;FMTTYPE=image/jpeg:https://cajuncoast.com/wp-content/uploads/2024/08/Stephensville-Market-e1727709680610.jpg
END:VEVENT
BEGIN:VEVENT
DTSTART;TZID=America/Chicago:20300112T100000
DTEND;TZID=America/Chicago:20300112T140000
DTSTAMP:20260421T062547
CREATED:20250113T214704Z
LAST-MODIFIED:20250116T203514Z
UID:10004266-1894442400-1894456800@cajuncoast.com
SUMMARY:Stephensville Market
DESCRIPTION:Enjoy arts\, crafts\, hot food\, fresh produce\, and sweets!
URL:https://cajuncoast.com/event/stephensville-market-2-3/2030-01-12/
LOCATION:Doiron Memorial Park (Formerly Stephensville Park)\, 3257 Hwy 70\, Stephensville\, LA\, 70380\, United States
ATTACH;FMTTYPE=image/jpeg:https://cajuncoast.com/wp-content/uploads/2024/08/Stephensville-Market-e1727709680610.jpg
END:VEVENT
END:VCALENDAR