BEGIN:VCALENDAR
VERSION:2.0
PRODID:-//cajuncoast.com - ECPv6.15.20//NONSGML v1.0//EN
CALSCALE:GREGORIAN
METHOD:PUBLISH
X-ORIGINAL-URL:https://cajuncoast.com
X-WR-CALDESC:Events for cajuncoast.com
REFRESH-INTERVAL;VALUE=DURATION:PT1H
X-Robots-Tag:noindex
X-PUBLISHED-TTL:PT1H
BEGIN:VTIMEZONE
TZID:America/Chicago
BEGIN:DAYLIGHT
TZOFFSETFROM:-0600
TZOFFSETTO:-0500
TZNAME:CDT
DTSTART:20240310T080000
END:DAYLIGHT
BEGIN:STANDARD
TZOFFSETFROM:-0500
TZOFFSETTO:-0600
TZNAME:CST
DTSTART:20241103T070000
END:STANDARD
BEGIN:DAYLIGHT
TZOFFSETFROM:-0600
TZOFFSETTO:-0500
TZNAME:CDT
DTSTART:20250309T080000
END:DAYLIGHT
BEGIN:STANDARD
TZOFFSETFROM:-0500
TZOFFSETTO:-0600
TZNAME:CST
DTSTART:20251102T070000
END:STANDARD
BEGIN:DAYLIGHT
TZOFFSETFROM:-0600
TZOFFSETTO:-0500
TZNAME:CDT
DTSTART:20260308T080000
END:DAYLIGHT
BEGIN:STANDARD
TZOFFSETFROM:-0500
TZOFFSETTO:-0600
TZNAME:CST
DTSTART:20261101T070000
END:STANDARD
BEGIN:DAYLIGHT
TZOFFSETFROM:-0600
TZOFFSETTO:-0500
TZNAME:CDT
DTSTART:20270314T080000
END:DAYLIGHT
BEGIN:STANDARD
TZOFFSETFROM:-0500
TZOFFSETTO:-0600
TZNAME:CST
DTSTART:20271107T070000
END:STANDARD
END:VTIMEZONE
BEGIN:VEVENT
DTSTART;TZID=America/Chicago:20260401T153000
DTEND;TZID=America/Chicago:20260401T170000
DTSTAMP:20260420T025830
CREATED:20260320T141105Z
LAST-MODIFIED:20260320T141105Z
UID:10007055-1775057400-1775062800@cajuncoast.com
SUMMARY:Teche Health Spring Fling and Health and Resource Fair
DESCRIPTION:Teche Health Lift Up Louisiana Health Month Spring Fling Health and Resource Fair. Fun and Games for Children 10 years and younger. Must be accompanied by an adult. For more information\, please call (337) 940-3936
URL:https://cajuncoast.com/event/teche-health-spring-fling-and-health-and-resource-fair/
LOCATION:City of Franklin\, Franklin\, Franklin\, LA\, 70538\, United States
ATTACH;FMTTYPE=image/jpeg:https://cajuncoast.com/wp-content/uploads/2026/03/Teche-Health-Spring-Fling-and-Health-Resource-Fair-Cajun-Coast-Visitors-Center-e1774015832946.jpg
ORGANIZER;CN="Teche Health":MAILTO:fbeverly@tabhealth.org
END:VEVENT
BEGIN:VEVENT
DTSTART;TZID=America/Chicago:20250621T090000
DTEND;TZID=America/Chicago:20250621T120000
DTSTAMP:20260420T025830
CREATED:20250616T211112Z
LAST-MODIFIED:20250616T211112Z
UID:10004994-1750496400-1750507200@cajuncoast.com
SUMMARY:The Health Village
DESCRIPTION:Teche Health is hosting The Health Village in collaboration with 100 Black Men of St. Mary Parish. \nBehavioral Health\, WIC/Nutrition\, Pediatrics\, BP\, Social Services\, Head Start Programs\, Community Services\, Insurance Services\nHealth and Fitness\, Plus More! \n 
URL:https://cajuncoast.com/event/the-health-village/
LOCATION:Blevins Building\, 600 Main St\, Franklin\, LA\, 70538\, United States
ATTACH;FMTTYPE=image/png:https://cajuncoast.com/wp-content/uploads/2025/06/Teche-Health-e1750107954820.png
ORGANIZER;CN="Teche Health":MAILTO:fbeverly@tabhealth.org
END:VEVENT
END:VCALENDAR