BEGIN:VCALENDAR
VERSION:2.0
PRODID:-//cajuncoast.com - ECPv6.15.20//NONSGML v1.0//EN
CALSCALE:GREGORIAN
METHOD:PUBLISH
X-WR-CALNAME:cajuncoast.com
X-ORIGINAL-URL:https://cajuncoast.com
X-WR-CALDESC:Events for cajuncoast.com
REFRESH-INTERVAL;VALUE=DURATION:PT1H
X-Robots-Tag:noindex
X-PUBLISHED-TTL:PT1H
BEGIN:VTIMEZONE
TZID:America/Chicago
BEGIN:DAYLIGHT
TZOFFSETFROM:-0600
TZOFFSETTO:-0500
TZNAME:CDT
DTSTART:20230312T080000
END:DAYLIGHT
BEGIN:STANDARD
TZOFFSETFROM:-0500
TZOFFSETTO:-0600
TZNAME:CST
DTSTART:20231105T070000
END:STANDARD
BEGIN:DAYLIGHT
TZOFFSETFROM:-0600
TZOFFSETTO:-0500
TZNAME:CDT
DTSTART:20240310T080000
END:DAYLIGHT
BEGIN:STANDARD
TZOFFSETFROM:-0500
TZOFFSETTO:-0600
TZNAME:CST
DTSTART:20241103T070000
END:STANDARD
BEGIN:DAYLIGHT
TZOFFSETFROM:-0600
TZOFFSETTO:-0500
TZNAME:CDT
DTSTART:20250309T080000
END:DAYLIGHT
BEGIN:STANDARD
TZOFFSETFROM:-0500
TZOFFSETTO:-0600
TZNAME:CST
DTSTART:20251102T070000
END:STANDARD
BEGIN:DAYLIGHT
TZOFFSETFROM:-0600
TZOFFSETTO:-0500
TZNAME:CDT
DTSTART:20260308T080000
END:DAYLIGHT
BEGIN:STANDARD
TZOFFSETFROM:-0500
TZOFFSETTO:-0600
TZNAME:CST
DTSTART:20261101T070000
END:STANDARD
END:VTIMEZONE
BEGIN:VEVENT
DTSTART;TZID=America/Chicago:20251214T163000
DTEND;TZID=America/Chicago:20251214T180000
DTSTAMP:20260420T194312
CREATED:20250822T185010Z
LAST-MODIFIED:20250822T185010Z
UID:10006165-1765729800-1765735200@cajuncoast.com
SUMMARY:Christmas Teddy Bear Tea
DESCRIPTION:Hosted by The Old Building.\nJoin us for an afternoon Christmas tea with Santa.\nThey will have finger foods\, Christmas treats\, and drinks for children (milk\, tea\, water).\nChampagne/Mimosas\, & coffee/tea for adults.\nTickets are available online at www.Theoldbuilding3190.com.\nIt is $35 for girls & boys under 12 and $50 for adults.
URL:https://cajuncoast.com/event/christmas-teddy-bear-tea-2/
LOCATION:The Old Building\, 3190 First Street\, Berwick\, Louisiana\, 70342
ATTACH;FMTTYPE=image/jpeg:https://cajuncoast.com/wp-content/uploads/2025/08/Christmas-Teddy-Bear-Tea-cajun-coast-e1755888580730.jpg
ORGANIZER;CN="The Old Building":MAILTO:Theoldbuildingvenue@gmail.com
END:VEVENT
BEGIN:VEVENT
DTSTART;TZID=America/Chicago:20251206T160000
DTEND;TZID=America/Chicago:20251206T200000
DTSTAMP:20260420T194312
CREATED:20250717T150439Z
LAST-MODIFIED:20250717T150439Z
UID:10005040-1765036800-1765051200@cajuncoast.com
SUMMARY:8th Annual Miracle on First Street
DESCRIPTION:Hosted by The Old Building.\nMark your calendars and join them for a magical evening filled with Christmas cheer\,\ntwinkling lights\, live music\, and the kind of small-town Christmas spirit that warms the heart.\nThis beloved tradition is their way of saying Thank You to the wonderful community!\nCome make memories with them where Christmas magic lives on First Street.
URL:https://cajuncoast.com/event/8th-annual-miracle-on-first-street/
LOCATION:The Old Building\, 3190 First Street\, Berwick\, Louisiana\, 70342
CATEGORIES:Annual Events,Live Music
ATTACH;FMTTYPE=image/jpeg:https://cajuncoast.com/wp-content/uploads/2025/07/Miracle-on-First-Street-cajun-coast-e1752764666110.jpg
ORGANIZER;CN="The Old Building":MAILTO:Theoldbuildingvenue@gmail.com
END:VEVENT
BEGIN:VEVENT
DTSTART;TZID=America/Chicago:20251031T200000
DTEND;TZID=America/Chicago:20251031T220000
DTSTAMP:20260420T194312
CREATED:20250915T164251Z
LAST-MODIFIED:20250915T164251Z
UID:10006218-1761940800-1761948000@cajuncoast.com
SUMMARY:Halloween Trivia Night
DESCRIPTION:Hosted by The Old Building & One80 Downtown.\nGet Your costumes ready!\nForm teams of 4 that will be $40.\nThere will be 10 categories!\nEnjoy some food\, amazing drinks\, and the costume contest!
URL:https://cajuncoast.com/event/halloween-trivia-night-2/
LOCATION:The Old Building\, 3190 First Street\, Berwick\, Louisiana\, 70342
ATTACH;FMTTYPE=image/jpeg:https://cajuncoast.com/wp-content/uploads/2025/09/Halloween-Trivia-Night-cajun-coast-1-e1757954557940.jpg
ORGANIZER;CN="The Old Building":MAILTO:Theoldbuildingvenue@gmail.com
END:VEVENT
BEGIN:VEVENT
DTSTART;TZID=America/Chicago:20250413T110000
DTEND;TZID=America/Chicago:20250413T130000
DTSTAMP:20260420T194312
CREATED:20250410T210722Z
LAST-MODIFIED:20250410T210722Z
UID:10004823-1744542000-1744549200@cajuncoast.com
SUMMARY:Book Signing
DESCRIPTION:Book Signing with the Stewart Family\, hosted by The Old Building.\nCome join Zach\, Reid\, and G for their book signing!\nBooks will be available for purchase for $12.\nCome support Genevieve and her family!
URL:https://cajuncoast.com/event/book-signing/
LOCATION:The Old Building\, 3190 First Street\, Berwick\, Louisiana\, 70342
ATTACH;FMTTYPE=image/jpeg:https://cajuncoast.com/wp-content/uploads/2025/04/Book-Signing-cajun-coast-e1744319179501.jpg
ORGANIZER;CN="The Old Building":MAILTO:Theoldbuildingvenue@gmail.com
END:VEVENT
BEGIN:VEVENT
DTSTART;TZID=America/Chicago:20241215T163000
DTEND;TZID=America/Chicago:20241215T173000
DTSTAMP:20260420T194312
CREATED:20240801T171709Z
LAST-MODIFIED:20240801T171806Z
UID:10002459-1734280200-1734283800@cajuncoast.com
SUMMARY:Christmas Teddy Bear Tea
DESCRIPTION:The Old Building is hosting a delightful event for children and families. We invite you to a festive afternoon filled with tea\, treats\, and Christmas joy. Bring along your cherished teddy bear for company. Secure your tickets at www.Theoldbuilding3190.com. Pricing is set at $35 for girls and boys under 12\, and $50 for adults.
URL:https://cajuncoast.com/event/christmas-teddy-bear-tea/
LOCATION:The Old Building\, 3190 First Street\, Berwick\, Louisiana\, 70342
ATTACH;FMTTYPE=image/jpeg:https://cajuncoast.com/wp-content/uploads/2024/08/Christmas-Teddy-Bear-e1722532570100.jpg
ORGANIZER;CN="The Old Building":MAILTO:Theoldbuildingvenue@gmail.com
END:VEVENT
BEGIN:VEVENT
DTSTART;TZID=America/Chicago:20241208T170000
DTEND;TZID=America/Chicago:20241208T200000
DTSTAMP:20260420T194312
CREATED:20240507T213203Z
LAST-MODIFIED:20240507T213203Z
UID:10001916-1733677200-1733688000@cajuncoast.com
SUMMARY:7th Annual Miracle on First Street
DESCRIPTION:Join us for our 7th annual Miracle on First Street market hosted by the Old Building and One80 in Berwick! More than 50 vendors\, music\, food\, and more! 3190 First Street\, Berwick\, 5 to 8 pm.
URL:https://cajuncoast.com/event/7th-annual-miracle-on-first-street/
LOCATION:The Old Building\, 3190 First Street\, Berwick\, Louisiana\, 70342
ORGANIZER;CN="The Old Building":MAILTO:Theoldbuildingvenue@gmail.com
END:VEVENT
BEGIN:VEVENT
DTSTART;TZID=America/Chicago:20241109T160000
DTEND;TZID=America/Chicago:20241109T190000
DTSTAMP:20260420T194312
CREATED:20240708T144843Z
LAST-MODIFIED:20240712T191030Z
UID:10002070-1731168000-1731178800@cajuncoast.com
SUMMARY:Bridgerton Garden Party
DESCRIPTION:Bridgerton Garden Party\, hosted by The Old Building; 3190 First Street\, Berwick. Mark your calendars and get those outfits planned! From 4 pm to 7 pm. Tickets are $50 each which includes finger food\, sweets\, various teas\, and a special gift box. *a cash bar of signature cocktails and champagne will be available. *Limited seating must be 18 or older\, no refunds. You can order at www.Theoldbuilding3190.com.
URL:https://cajuncoast.com/event/bridgerton-garden-party/
LOCATION:The Old Building\, 3190 First Street\, Berwick\, Louisiana\, 70342
ATTACH;FMTTYPE=image/jpeg:https://cajuncoast.com/wp-content/uploads/2024/07/Bridgerton-Garden-Party-e1720809259808.jpg
ORGANIZER;CN="The Old Building":MAILTO:Theoldbuildingvenue@gmail.com
END:VEVENT
END:VCALENDAR