BEGIN:VCALENDAR
VERSION:2.0
PRODID:-//cajuncoast.com - ECPv6.15.20//NONSGML v1.0//EN
CALSCALE:GREGORIAN
METHOD:PUBLISH
X-WR-CALNAME:cajuncoast.com
X-ORIGINAL-URL:https://cajuncoast.com
X-WR-CALDESC:Events for cajuncoast.com
REFRESH-INTERVAL;VALUE=DURATION:PT1H
X-Robots-Tag:noindex
X-PUBLISHED-TTL:PT1H
BEGIN:VTIMEZONE
TZID:America/Chicago
BEGIN:DAYLIGHT
TZOFFSETFROM:-0600
TZOFFSETTO:-0500
TZNAME:CDT
DTSTART:20250309T080000
END:DAYLIGHT
BEGIN:STANDARD
TZOFFSETFROM:-0500
TZOFFSETTO:-0600
TZNAME:CST
DTSTART:20251102T070000
END:STANDARD
BEGIN:DAYLIGHT
TZOFFSETFROM:-0600
TZOFFSETTO:-0500
TZNAME:CDT
DTSTART:20260308T080000
END:DAYLIGHT
BEGIN:STANDARD
TZOFFSETFROM:-0500
TZOFFSETTO:-0600
TZNAME:CST
DTSTART:20261101T070000
END:STANDARD
BEGIN:DAYLIGHT
TZOFFSETFROM:-0600
TZOFFSETTO:-0500
TZNAME:CDT
DTSTART:20270314T080000
END:DAYLIGHT
BEGIN:STANDARD
TZOFFSETFROM:-0500
TZOFFSETTO:-0600
TZNAME:CST
DTSTART:20271107T070000
END:STANDARD
END:VTIMEZONE
BEGIN:VEVENT
DTSTART;TZID=America/Chicago:20260214T180000
DTEND;TZID=America/Chicago:20260214T230000
DTSTAMP:20260420T150419
CREATED:20260113T172752Z
LAST-MODIFIED:20260113T172752Z
UID:10006740-1771092000-1771110000@cajuncoast.com
SUMMARY:Backyard Masquerade Party (ages 8 – 13)
DESCRIPTION:Hosted by the R. E. C. It’s that time of the year again.\nAfter the huge success of last year’s Galentine’s Day evener\,\nthey are opening the fun to even more kids this year!\nThis also gives parents the opportunity to enjoy Valentine’s Day kid-free!\nJoin for a Backyard Masquerade Party for boys & girls ages 8 – 13\,\nfilled with games\, crafts (including mask-making)\, movies\, music\, laughter\, & surprises.\nAdmission is $40. (all proceeds benefit the Lightfoot Softball Scholarship Fund).\nParty food & dirty sodas will be served.\nTell the kids to bring their energy & get ready for a night of creativity\, fun\, & celebration!\nSpots are limited\, so be sure to register early.\nRegister at https://forms.gle/Hyr4A6NLB6mrrQHv6.
URL:https://cajuncoast.com/event/backyard-masquerade-party-ages-8-13/
LOCATION:The REC\, 412 Jupiter Street\, Bayou Vista\, LA\, 70380\, United States
ATTACH;FMTTYPE=image/jpeg:https://cajuncoast.com/wp-content/uploads/2026/01/The-R.E.C.-cajun-coast-e1768325256170.jpg
ORGANIZER;CN="The REC":MAILTO:theREC985@gmail.com
END:VEVENT
END:VCALENDAR