BEGIN:VCALENDAR
VERSION:2.0
PRODID:-//cajuncoast.com - ECPv6.15.20//NONSGML v1.0//EN
CALSCALE:GREGORIAN
METHOD:PUBLISH
X-ORIGINAL-URL:https://cajuncoast.com
X-WR-CALDESC:Events for cajuncoast.com
REFRESH-INTERVAL;VALUE=DURATION:PT1H
X-Robots-Tag:noindex
X-PUBLISHED-TTL:PT1H
BEGIN:VTIMEZONE
TZID:America/Chicago
BEGIN:DAYLIGHT
TZOFFSETFROM:-0600
TZOFFSETTO:-0500
TZNAME:CDT
DTSTART:20230312T080000
END:DAYLIGHT
BEGIN:STANDARD
TZOFFSETFROM:-0500
TZOFFSETTO:-0600
TZNAME:CST
DTSTART:20231105T070000
END:STANDARD
BEGIN:DAYLIGHT
TZOFFSETFROM:-0600
TZOFFSETTO:-0500
TZNAME:CDT
DTSTART:20240310T080000
END:DAYLIGHT
BEGIN:STANDARD
TZOFFSETFROM:-0500
TZOFFSETTO:-0600
TZNAME:CST
DTSTART:20241103T070000
END:STANDARD
BEGIN:DAYLIGHT
TZOFFSETFROM:-0600
TZOFFSETTO:-0500
TZNAME:CDT
DTSTART:20250309T080000
END:DAYLIGHT
BEGIN:STANDARD
TZOFFSETFROM:-0500
TZOFFSETTO:-0600
TZNAME:CST
DTSTART:20251102T070000
END:STANDARD
BEGIN:DAYLIGHT
TZOFFSETFROM:-0600
TZOFFSETTO:-0500
TZNAME:CDT
DTSTART:20260308T080000
END:DAYLIGHT
BEGIN:STANDARD
TZOFFSETFROM:-0500
TZOFFSETTO:-0600
TZNAME:CST
DTSTART:20261101T070000
END:STANDARD
END:VTIMEZONE
BEGIN:VEVENT
DTSTART;TZID=America/Chicago:20250415T160000
DTEND;TZID=America/Chicago:20250415T180000
DTSTAMP:20260421T214929
CREATED:20250408T205238Z
LAST-MODIFIED:20250408T205238Z
UID:10004813-1744732800-1744740000@cajuncoast.com
SUMMARY:Egg Hunt featuring Carnival Games and Bunny Pictures
DESCRIPTION:Hosted by St. Mary Parish Library\, Amelia Branch.\nJoin us for a fun-filled spring afternoon with carnival games\, bunny pictures\,\nand an egg hunt kicking off at 5:30 PM.\nSeek the golden egg for a special prize! All Ages are invited!
URL:https://cajuncoast.com/event/egg-hunt-featuring-carnival-games-and-bunny-pictures/
LOCATION:Amelia Branch\, 625 Lake Palourde Rd\, Amelia\, LA\, 70340\, United States
ATTACH;FMTTYPE=image/jpeg:https://cajuncoast.com/wp-content/uploads/2025/04/Egg-Hunt-featuring-Cranival-games-and-bunny-pictures-cajun-coast-e1744145520212.jpg
ORGANIZER;CN="St. Mary Parish Library":MAILTO:info@stmaryparishlibrary.org
END:VEVENT
BEGIN:VEVENT
DTSTART;TZID=America/Chicago:20240809T160000
DTEND;TZID=America/Chicago:20240809T180000
DTSTAMP:20260421T214929
CREATED:20240805T162240Z
LAST-MODIFIED:20240805T162240Z
UID:10002469-1723219200-1723226400@cajuncoast.com
SUMMARY:Back To School Bingo
DESCRIPTION:Hosted by St. Mary Parish Library.\nBegins at 4pm at Amelia Branch.\nFor More information\, please contact Amelia Branch at 985-631-2262.
URL:https://cajuncoast.com/event/back-to-school-bingo/
LOCATION:Amelia Branch\, 625 Lake Palourde Rd\, Amelia\, LA\, 70340\, United States
ATTACH;FMTTYPE=image/jpeg:https://cajuncoast.com/wp-content/uploads/2024/08/Back-to-School-Bingo-e1722874686531.jpg
ORGANIZER;CN="St. Mary Parish Library":MAILTO:info@stmaryparishlibrary.org
END:VEVENT
BEGIN:VEVENT
DTSTART;TZID=America/Chicago:20240603T090000
DTEND;TZID=America/Chicago:20240603T110000
DTSTAMP:20260421T214929
CREATED:20240530T163645Z
LAST-MODIFIED:20240530T163645Z
UID:10001956-1717405200-1717412400@cajuncoast.com
SUMMARY:Grand Reopening of Amelia Branch
DESCRIPTION:Grand Reopening of St. Mary Parish Library’s Newly Renovated Amelia Branch.\nJoin us at the Amelia branch Library\, at 9:00 a.m. for an exciting Ribbon Cutting Ceremony!\nExplore the beautifully remodeled space\, sign up the little ones for the summer reading challenge\,\nand embark on a literary adventure with the Amelia Branch.
URL:https://cajuncoast.com/event/grand-reopening-of-amelia-branch/
LOCATION:Amelia Branch\, 625 Lake Palourde Rd\, Amelia\, LA\, 70340\, United States
ATTACH;FMTTYPE=image/jpeg:https://cajuncoast.com/wp-content/uploads/2024/05/Amelia-Branch-e1717086989934.jpg
ORGANIZER;CN="St. Mary Parish Library":MAILTO:info@stmaryparishlibrary.org
END:VEVENT
END:VCALENDAR