BEGIN:VCALENDAR
VERSION:2.0
PRODID:-//cajuncoast.com - ECPv6.15.20//NONSGML v1.0//EN
CALSCALE:GREGORIAN
METHOD:PUBLISH
X-WR-CALNAME:cajuncoast.com
X-ORIGINAL-URL:https://cajuncoast.com
X-WR-CALDESC:Events for cajuncoast.com
REFRESH-INTERVAL;VALUE=DURATION:PT1H
X-Robots-Tag:noindex
X-PUBLISHED-TTL:PT1H
BEGIN:VTIMEZONE
TZID:America/Chicago
BEGIN:DAYLIGHT
TZOFFSETFROM:-0600
TZOFFSETTO:-0500
TZNAME:CDT
DTSTART:20230312T080000
END:DAYLIGHT
BEGIN:STANDARD
TZOFFSETFROM:-0500
TZOFFSETTO:-0600
TZNAME:CST
DTSTART:20231105T070000
END:STANDARD
BEGIN:DAYLIGHT
TZOFFSETFROM:-0600
TZOFFSETTO:-0500
TZNAME:CDT
DTSTART:20240310T080000
END:DAYLIGHT
BEGIN:STANDARD
TZOFFSETFROM:-0500
TZOFFSETTO:-0600
TZNAME:CST
DTSTART:20241103T070000
END:STANDARD
BEGIN:DAYLIGHT
TZOFFSETFROM:-0600
TZOFFSETTO:-0500
TZNAME:CDT
DTSTART:20250309T080000
END:DAYLIGHT
BEGIN:STANDARD
TZOFFSETFROM:-0500
TZOFFSETTO:-0600
TZNAME:CST
DTSTART:20251102T070000
END:STANDARD
BEGIN:DAYLIGHT
TZOFFSETFROM:-0600
TZOFFSETTO:-0500
TZNAME:CDT
DTSTART:20260308T080000
END:DAYLIGHT
BEGIN:STANDARD
TZOFFSETFROM:-0500
TZOFFSETTO:-0600
TZNAME:CST
DTSTART:20261101T070000
END:STANDARD
END:VTIMEZONE
BEGIN:VEVENT
DTSTART;TZID=America/Chicago:20250920T170000
DTEND;TZID=America/Chicago:20250920T190000
DTSTAMP:20260423T182353
CREATED:20250822T204936Z
LAST-MODIFIED:20250822T204936Z
UID:10006169-1758387600-1758394800@cajuncoast.com
SUMMARY:2nd Annual Acadian YHEC Banquet
DESCRIPTION:Hosted by Acadiana YHEC at the Bayou Bend Conference Center.\nJoin them for a night of outdoor spirit & giving back!\nThere will be food\, games & raffles\, live & silent auctions\,\nfirearm & outdoor gear giveaways\, & support for local youth in outdoor education!\nTickets are $50 for singles & couples are $80. Tickets will be sold at the door.\nThey are accepting donations for prizes & giveaways – every contribution helps them\ncreate a memorable experience for their guests.\nAll proceeds go directly to support the Acadiana YHEC youth program—\nfunding ammo\, supplies\, & training to get kids outdoors & involved in shooting sports & conservation.
URL:https://cajuncoast.com/event/2nd-annual-acadian-yhec-banquet/
LOCATION:Bayou Bend Conference Center\, 1029 Northwest Blvd\, Franklin\, LA\, 70538\, United States
CATEGORIES:Annual Events
ATTACH;FMTTYPE=image/jpeg:https://cajuncoast.com/wp-content/uploads/2025/08/2nd-annual-Acadian-YHEC-Banquet-cajun-coast-e1755895759650.jpg
ORGANIZER;CN="Acadiana YHEC":MAILTO:acadianayhec@acadianayhec.com
END:VEVENT
BEGIN:VEVENT
DTSTART;TZID=America/Chicago:20250716T113000
DTEND;TZID=America/Chicago:20250716T123000
DTSTAMP:20260423T182353
CREATED:20250624T151245Z
LAST-MODIFIED:20250624T151245Z
UID:10005004-1752665400-1752669000@cajuncoast.com
SUMMARY:Bayou Bend Brown Bag Club: Move Better\, Feel Better: Modern Pain Solutions
DESCRIPTION:Hosted by Bayou Bend Fitness Center.\nJoin for July’s Brown Bag Club series in the Conference Center inside the Wellness Center at Bayou Bend.\nBayou Bend Health System’s Pain Management Specialist\, Dr. Lisa Brown\, will present “Move Better\, Feel Better:\nModern Pain Solutions.” Dr. Brown will discuss today’s best pain management solutions that will have you\nmoving better and feeling your best! Participants will be treated to a complimentary lunch\, or participants\ncan bring their own lunch. This event is FREE to attend\, but registration is required to ensure enough seating and lunches.\nTo inquire about this event and/or pre-register\, please call the Bayou Bend Fitness Center front desk at\n(337) 413-5104 or stop by in person at 1029 Northwest Blvd. in Franklin.
URL:https://cajuncoast.com/event/bayou-bend-brown-bag-club-move-better-feel-better-modern-pain-solutions/
LOCATION:Bayou Bend Conference Center\, 1029 Northwest Blvd\, Franklin\, LA\, 70538\, United States
ATTACH;FMTTYPE=image/jpeg:https://cajuncoast.com/wp-content/uploads/2025/06/BBHS-Brown-Bag-Club-cajun-coast-e1750777953995.jpg
ORGANIZER;CN="Bayou Bend Fitness Center":MAILTO:membership@bayoubendhealth.org
END:VEVENT
BEGIN:VEVENT
DTSTART;TZID=America/Chicago:20250614T090000
DTEND;TZID=America/Chicago:20250614T103000
DTSTAMP:20260423T182353
CREATED:20250522T214745Z
LAST-MODIFIED:20250522T214745Z
UID:10004946-1749891600-1749897000@cajuncoast.com
SUMMARY:Bayou Bend Brown Bag Club: Yoga and Yogurt
DESCRIPTION:Hosted by Bayou Bend Fitness Center and Bayou Bend Health System.\nJoin for June’s Brown Bag Club series in the Conference Center inside the Wellness Center at Bayou Bend; 1029 Northwest Blvd.\nYoga instructor\, Stephanie Burke\, is kicking everything off with mindfulness and a guided yoga session.\nDebra Taghechian\, celebrated cook and Assistant Nutrition and Community Health Agent at LSU Ag Center\,\nwill take the floor for a presentation on dairy with a concentration on yogurt entitled “What’s the Big Deal About Gut Health?”.\n(This portion will be streamed on Facebook. Participants will be treated to a complimentary yogurt parfait bar.\nGuests can bring their own yoga mats\, or one will be provided courtesy of Bayou Bend Fitness Center.\nThis event is FREE to attend\, but registration is required by Thursday\, June 12th. Ages 5 & up are welcome.\nTo inquire about this event and/or pre-register\, please call the Bayou Bend Fitness Center front desk at (337) 413-5104 or stop by in person.
URL:https://cajuncoast.com/event/bayou-bend-brown-bag-club-yoga-and-yogurt/
LOCATION:Bayou Bend Conference Center\, 1029 Northwest Blvd\, Franklin\, LA\, 70538\, United States
ATTACH;FMTTYPE=image/jpeg:https://cajuncoast.com/wp-content/uploads/2025/05/BBHS-Bayou-Bend-Cajun-Coast-e1747950450190.jpg
ORGANIZER;CN="Bayou Bend Fitness Center":MAILTO:membership@bayoubendhealth.org
END:VEVENT
BEGIN:VEVENT
DTSTART;TZID=America/Chicago:20250513T113000
DTEND;TZID=America/Chicago:20250513T123000
DTSTAMP:20260423T182353
CREATED:20250422T190740Z
LAST-MODIFIED:20250422T191217Z
UID:10004909-1747135800-1747139400@cajuncoast.com
SUMMARY:Bayou Bend Brown Bag Club: The Total Package: Physical\, Personal\, & Financial Fitness.
DESCRIPTION:Hosted by Bayou Bend Fitness Center\, Bayou Bend Conference Center\, and Bayou Bend Health System.\nJoin us from 11:30 am – 12:30 pm for May’s Brown Bag club series in the Conference Center inside the Wellness Center at Bayou Bend.\nMay is all about self-care\, but how often do we consider planning for our future as a method of loving ourselves?\nIn the upcoming “Total Package” presentation\, we will welcome Foulcard Insurance Agency to discuss the many ways\nyou can be prepared for your future life: Spiritual Fitness by Donald Foulcard\, Benefits of Healthy Lifestyle by Kiajah Foulcard\, RN\,\nBenefits of Home Health Services by Dondra Mcoy\, Clinical Liaison\, Benefits of Life Insurance (protection\, savings\, & wealth creation) by Carl Foulcard\,\nand Benefits of Medicare (financial fitness & navigating Medicare) by Debbi Keggler.\nGuests can bring their own lunch\, or a FREE lunch will be provided courtesy of Bayou Bend Fitness Center.\nAll guests will also have the opportunity to win a door prize! This event is Free to attend\, but they do ask that\nyou please pre-register to ensure enough seating and lunches.\nTo inquire about this event and/or pre-register\, please call the Bayou Bend Fitness Center front desk at (337) 413-5104 or\nstop by in person at 1029 Northwest Blvd. in Franklin.
URL:https://cajuncoast.com/event/bayou-bend-brown-bag-club-the-total-package-physical-personal-financial-fitness/
LOCATION:Bayou Bend Conference Center\, 1029 Northwest Blvd\, Franklin\, LA\, 70538\, United States
ATTACH;FMTTYPE=image/jpeg:https://cajuncoast.com/wp-content/uploads/2025/04/The-Total-Package-cajun-coast-e1745348842343.jpg
ORGANIZER;CN="Bayou Bend Fitness Center":MAILTO:membership@bayoubendhealth.org
END:VEVENT
BEGIN:VEVENT
DTSTART;TZID=America/Chicago:20250314T113000
DTEND;TZID=America/Chicago:20250314T123000
DTSTAMP:20260423T182353
CREATED:20250306T223911Z
LAST-MODIFIED:20250306T225117Z
UID:10004396-1741951800-1741955400@cajuncoast.com
SUMMARY:Bayou Bend Brown Bag Club: Nutrition for Diabetes
DESCRIPTION:Hosted by Bayou Bend Fitness Center.\nJoin us from 11:30 am – 12:30 pm for March’s Bayou Bend Brown Bag Club series in the Conference Center inside the Wellness Center at Bayou Bend.\nMarch is National Nutrition Month\, and Bayou Bend’s Registered Dietitian/Nutritionist\, Brianne Burgess\,\nwill be providing guests with helpful information about how to control diabetes with proper diet and nutrition.\nGuests can bring their own lunch\, or a FREE lunch will be provided courtesy of Bayou Bend Fitness Center.\nThis event is FREE to attend\, but they do ask that you please pre-register to ensure enough seating and lunches.\nTo inquire about this event and/or pre-register\, please call the Bayou Bend Fitness Center front desk at\n(337) 413-5104 or stop by in person at 1029 Northwest Blvd. in Franklin.
URL:https://cajuncoast.com/event/bayou-bend-brown-bag-club-nutrition-for-diabetes/
LOCATION:Bayou Bend Conference Center\, 1029 Northwest Blvd\, Franklin\, LA\, 70538\, United States
ATTACH;FMTTYPE=image/jpeg:https://cajuncoast.com/wp-content/uploads/2025/03/BBHS-Brown-Bag-Club-Nutrition-for-Diabetes-cajun-coast-e1741300734591.jpg
ORGANIZER;CN="Bayou Bend Fitness Center":MAILTO:membership@bayoubendhealth.org
END:VEVENT
BEGIN:VEVENT
DTSTART;TZID=America/Chicago:20250219T113000
DTEND;TZID=America/Chicago:20250219T133000
DTSTAMP:20260423T182353
CREATED:20250213T171940Z
LAST-MODIFIED:20250213T171940Z
UID:10004356-1739964600-1739971800@cajuncoast.com
SUMMARY:Bayou Bend Brown Bag Club: Setting the Table for Healthy Eating
DESCRIPTION:Hosted by Bayou Bend Fitness Center\, Bayou Bend Conference Center\, & Bayou Bend Health System.\nJoin us from 11:30am – 1:30pm at the Bayou Bend Center; 1029 Northwest Blvd.\nStudents from ATSU Arizona School of Health Sciences will return to host this special 2-hour lunch to learn\n& discuss the importance of a balanced diet. A free lunch will be provided\, & there will be a door prize drawn after class.\nThese events are FREE to attend\, but they do ask that you please pre-register to ensure enough lunches & seating.\nTo inquire about this event and/or pre-register\, please call the Bayou Bend Fitness Center front desk at (337) 413-5104\nor stop by in person at 1029 Northwest Blvd. in Franklin.
URL:https://cajuncoast.com/event/bayou-bend-brown-bag-club-setting-the-table-for-healthy-eating/
LOCATION:Bayou Bend Conference Center\, 1029 Northwest Blvd\, Franklin\, LA\, 70538\, United States
ATTACH;FMTTYPE=image/jpeg:https://cajuncoast.com/wp-content/uploads/2025/02/Bayou-Bend-Brown-Bag-Club-e1739467168118.jpg
ORGANIZER;CN="Bayou Bend Conference Center":MAILTO:events@bayoubendhealth.org
END:VEVENT
BEGIN:VEVENT
DTSTART;TZID=America/Chicago:20250130T180000
DTEND;TZID=America/Chicago:20250130T200000
DTSTAMP:20260423T182353
CREATED:20241210T220008Z
LAST-MODIFIED:20241218T211242Z
UID:10003975-1738260000-1738267200@cajuncoast.com
SUMMARY:Diamonds in the Rough Annual Awards Banquet: A Black and White Gala
DESCRIPTION:Hosted by St. Mary Chamber of Commerce\nJoin us for an unforgettable evening of celebration! \nThese black-and-white gala honors exceptional individuals and organizations in business and volunteerism.\nEnjoy a night filled with special recognition\, live entertainment\, a delicious meal\, and great company. \nBusiness of the Year: Cleveland J. Billiot III General Contracting\, Inc.\nSmall Business of the Year: The Old Building One80 Downtown.\nNon-Profit of the Year: Root & Ribbons Foundation.\nVirginia Tyler Guillotte-Citizen of the Year: Kristy Toups Gant.\nCajun Coast Tourism will present the Hospitality Employee of the Year Award \nThe Chamber will proudly install their 2025 Board of Directors! \nThis is an event you don’t want to miss! You can get your tickets online at St. Mary Chamber of Commerce Facebook page.
URL:https://cajuncoast.com/event/diamonds-in-the-rough-annual-awards-banquet-a-black-white-gala/
LOCATION:Bayou Bend Conference Center\, 1029 Northwest Blvd\, Franklin\, LA\, 70538\, United States
CATEGORIES:Live Music
ATTACH;FMTTYPE=image/jpeg:https://cajuncoast.com/wp-content/uploads/2024/12/St.-Mary-Chamber-of-Commerce.jpg
ORGANIZER;CN="St. Mary Chamber of Commerce":MAILTO:infor@stmarychamber.com
END:VEVENT
BEGIN:VEVENT
DTSTART;TZID=America/Chicago:20250115T113000
DTEND;TZID=America/Chicago:20250115T123000
DTSTAMP:20260423T182353
CREATED:20250113T195821Z
LAST-MODIFIED:20250113T195821Z
UID:10004013-1736940600-1736944200@cajuncoast.com
SUMMARY:Bayou Bend Brown Bag Club: Start Seeds for Your Spring Garden
DESCRIPTION:Hosted by Bayou Bend Fitness Center\, Bayou Bend Health System\, & Bayou Bend Conference Center.\nJoin January’s Brown Bag Club series in the Conference Center inside the Wellness Center at Bayou Bend.\nThis month\, they are welcoming back a fan-favorite Ingrid Butler\, Master Gardener\, to present “Start Seeds for Your Spring Garden.”\nIngris will be sharing her gardening knowledge to help you achieve the spring garden of your dreams!\nLunch will be provided. This event is FREE to attend\, but they do ask that you please pre-register to ensure there is enough seating and lunches.\nTo inquire about this event and/or pre-register\, please call the Bayou Bend Fitness Center front desk at (337) 413-5104 or\nstop by in person at 1029 Northwest Blvd.
URL:https://cajuncoast.com/event/bayou-bend-brown-bag-club-start-seeds-for-your-spring-garden/
LOCATION:Bayou Bend Conference Center\, 1029 Northwest Blvd\, Franklin\, LA\, 70538\, United States
ATTACH;FMTTYPE=image/jpeg:https://cajuncoast.com/wp-content/uploads/2025/01/BBHS-Brown-Bag-Club-Cajun-Coast-scaled.jpg
ORGANIZER;CN="Bayou Bend Fitness Center":MAILTO:membership@bayoubendhealth.org
END:VEVENT
BEGIN:VEVENT
DTSTART;TZID=America/Chicago:20240918T120000
DTEND;TZID=America/Chicago:20240918T130000
DTSTAMP:20260423T182353
CREATED:20240906T210918Z
LAST-MODIFIED:20240906T210918Z
UID:10002588-1726660800-1726664400@cajuncoast.com
SUMMARY:Bayou Bend Brown Bag Club
DESCRIPTION:Join us for September’s Bayou Bend Brown Bag Club series in the Conference Center inside the Wellness Center at Bayou Bend.\nThis monthly lunch club offers rotating hosts and topics each month.\nThis month’s topic of Current Advances in Weight Loss will be presented by Dr. Johnny Perez\,\nBariatric & General Surgeon at the new Bayou Bend Bariatric Center.\nDr. Perez will discuss surgical and nonsurgical weight loss techniques including gastric bypass and sleeves\,\nweight loss injections\, hormone therapy\, and more.\nParticipants will have the opportunity to meet Dr. Perez\, his staff\, and their pharmaceutical reps before and after the luncheon\nas part of the Bayou Bend WellFest.\nThis month’s lunch will be FREE and is generously provided by Covidien.\nRegistration for the provided lunch is REQUIRED. You may also bring your own lunch or purchase a meal\nfrom Lamplighter Coffeehouse Lite inside the Wellness Center.\nThis event is FREE to attend\, but we do ask that you please pre-register to ensure enough seating and lunches.\nTo inquire about this event and/or pre-register\, please call the Bayou Bend Fitness Center front desk at (337) 413-5104 or stop by in person.
URL:https://cajuncoast.com/event/bayou-bend-brown-bag-club/
LOCATION:Bayou Bend Conference Center\, 1029 Northwest Blvd\, Franklin\, LA\, 70538\, United States
ATTACH;FMTTYPE=image/jpeg:https://cajuncoast.com/wp-content/uploads/2024/08/BBHS-Brown-Bag-Club-e1725656938223.jpg
ORGANIZER;CN="Bayou Bend Health System":MAILTO:No Email available
END:VEVENT
BEGIN:VEVENT
DTSTART;TZID=America/Chicago:20240914T170000
DTEND;TZID=America/Chicago:20240914T190000
DTSTAMP:20260423T182353
CREATED:20240718T160353Z
LAST-MODIFIED:20240718T160402Z
UID:10002096-1726333200-1726340400@cajuncoast.com
SUMMARY:20th Anniversary Hunting and Fishing Banquet
DESCRIPTION:Hosted by Acadiana YHEC. Help celebrate their 20-year anniversary.\nCome out and enjoy a night of food\, games\, live auction\, silent auction\, and more.\nAll funds raised will go directly to the Acadiana YHEC team to keep these youths shooting and enjoying the outdoors.\nEvent will be held at Bayou Bend Conference Center; 1029 Northwest Blvd.\, Franklin.\nDoors will open at 5pm. Ticket prices for single: $50\, Couple: $80\, and Table Packages starting at: $500.\nIf you know anyone willing to donate some things for us to raffle and auction off\n(gift baskets\, artwork\, handmade items\, or any hunting\, fishing\, or outdoor related items) please contact.\nMore info to come. For more information\, please contact at Acadianayhec@gmail .com.
URL:https://cajuncoast.com/event/20th-anniversary-hunting-and-fishing-banquet/
LOCATION:Bayou Bend Conference Center\, 1029 Northwest Blvd\, Franklin\, LA\, 70538\, United States
ATTACH;FMTTYPE=image/jpeg:https://cajuncoast.com/wp-content/uploads/2024/07/Acadiana-YHEC-e1721318626652.jpg
ORGANIZER;CN="Acadiana YHEC":MAILTO:acadianayhec@acadianayhec.com
END:VEVENT
BEGIN:VEVENT
DTSTART;TZID=America/Chicago:20240521T113000
DTEND;TZID=America/Chicago:20240521T133000
DTSTAMP:20260423T182353
CREATED:20240503T200532Z
LAST-MODIFIED:20240503T200532Z
UID:10001893-1716291000-1716298200@cajuncoast.com
SUMMARY:Bayou Bend Brown Bag Club: Stroke Awareness
DESCRIPTION:Hosted by Bayou Bend Fitness Center.\nJoin us at 11:30 a.m. in this May’s Bayou Bend Brown Bag Club series in the Conference Center inside the Wellness Center of Bayou Bend.\nThis monthly lunch club offers rotating hosts and topics each month.\nMay is American Stroke Month\, and our guest speaker will be Neurologist Dr. Derek Neupert from\nThibodaux Regional Health System and Bayou Bend Health System.\nDr. Neupert will speak to our guests about stroke awareness\, signs and symptoms of stroke\, and stroke prevention.\nThis month’s lunch will be FREE and is generously provided by Thibodaux Regional Health System.\nThis event is FREE to attend\, but we do ask that you please pre-register to ensure there is enough seating and lunches.\nTo enquire about this event\, pre-register\, and/or purchase a lunch\, please call the\nBayou Bend Fitness Center front desk at (337) 413-5104 or stop by in person at 1029 Northwest Blvd. in Franklin.
URL:https://cajuncoast.com/event/bayou-bend-brown-bag-club-stroke-awareness/
LOCATION:Bayou Bend Conference Center\, 1029 Northwest Blvd\, Franklin\, LA\, 70538\, United States
ORGANIZER;CN="Bayou Bend Fitness Center":MAILTO:membership@bayoubendhealth.org
END:VEVENT
BEGIN:VEVENT
DTSTART;TZID=America/Chicago:20240504T190000
DTEND;TZID=America/Chicago:20240504T210000
DTSTAMP:20260423T182353
CREATED:20240401T155315Z
LAST-MODIFIED:20240502T192521Z
UID:10001420-1714849200-1714856400@cajuncoast.com
SUMMARY:Derby & Dice
DESCRIPTION:We’re off to the races with our next event! \nDon your fanciest hat and join us on Saturday\, May 4th for Derby & Dice benefitting St. Mary Council on Aging. \nTickets: $50.00 \nTickets will include access to: \nHorse betting\nCasino games\nAuthentic Kentucky Derby fare\nCash bar featuring Mint Juleps and other specialty cocktails\nDoor prizes \nTickets go on sale Monday\, April 1st. Sponsorships are available. \nContact events@bayoubendhealth.org for more information.
URL:https://cajuncoast.com/event/debry-dice/
LOCATION:Bayou Bend Conference Center\, 1029 Northwest Blvd\, Franklin\, LA\, 70538\, United States
ATTACH;FMTTYPE=image/jpeg:https://cajuncoast.com/wp-content/uploads/2024/04/Derby-and-Dice-e1711986749410.jpg
ORGANIZER;CN="Bayou Bend Health System":MAILTO:No Email available
END:VEVENT
BEGIN:VEVENT
DTSTART;TZID=America/Chicago:20240316T190000
DTEND;TZID=America/Chicago:20240316T220000
DTSTAMP:20260423T182353
CREATED:20240229T161341Z
LAST-MODIFIED:20240229T161341Z
UID:10001356-1710615600-1710626400@cajuncoast.com
SUMMARY:Boogie at the Bend
DESCRIPTION:Two local musicians\, Nicole Marie and Johnny Chauvin will provide a night filled with music\, fun\, and friends from 7pm- 10pm!\nPre-sale General Admission is only $5\, and you’ll receive a voucher for discounted enrollment fees to the Bayou Bend Fitness Center.\nThere will be limited seating available–couple’s tables\, bar tables\, or cafe tables are $10\,\nand tables of 8 are available for $30 (table prices include general admission tickets and Fitness Center vouchers).\nAll reserved seating will receive a swag bag\, a special appetizer\, and dessert-\nin addition to a hors d’oeuvres buffet being served and there will be a hors d’oeuvres and a cash bar.\nCall (337) 355-1360 or email events@bayoubendhealth.org to buy your ticket or book your table today.
URL:https://cajuncoast.com/event/boogie-at-the-bend/
LOCATION:Bayou Bend Conference Center\, 1029 Northwest Blvd\, Franklin\, LA\, 70538\, United States
CATEGORIES:Live Music
ORGANIZER;CN="Bayou Bend Fitness Center":MAILTO:membership@bayoubendhealth.org
END:VEVENT
END:VCALENDAR