BEGIN:VCALENDAR
VERSION:2.0
PRODID:-//cajuncoast.com - ECPv6.15.20//NONSGML v1.0//EN
CALSCALE:GREGORIAN
METHOD:PUBLISH
X-WR-CALNAME:cajuncoast.com
X-ORIGINAL-URL:https://cajuncoast.com
X-WR-CALDESC:Events for cajuncoast.com
REFRESH-INTERVAL;VALUE=DURATION:PT1H
X-Robots-Tag:noindex
X-PUBLISHED-TTL:PT1H
BEGIN:VTIMEZONE
TZID:America/Chicago
BEGIN:DAYLIGHT
TZOFFSETFROM:-0600
TZOFFSETTO:-0500
TZNAME:CDT
DTSTART:20220313T080000
END:DAYLIGHT
BEGIN:STANDARD
TZOFFSETFROM:-0500
TZOFFSETTO:-0600
TZNAME:CST
DTSTART:20221106T070000
END:STANDARD
BEGIN:DAYLIGHT
TZOFFSETFROM:-0600
TZOFFSETTO:-0500
TZNAME:CDT
DTSTART:20230312T080000
END:DAYLIGHT
BEGIN:STANDARD
TZOFFSETFROM:-0500
TZOFFSETTO:-0600
TZNAME:CST
DTSTART:20231105T070000
END:STANDARD
BEGIN:DAYLIGHT
TZOFFSETFROM:-0600
TZOFFSETTO:-0500
TZNAME:CDT
DTSTART:20240310T080000
END:DAYLIGHT
BEGIN:STANDARD
TZOFFSETFROM:-0500
TZOFFSETTO:-0600
TZNAME:CST
DTSTART:20241103T070000
END:STANDARD
BEGIN:DAYLIGHT
TZOFFSETFROM:-0600
TZOFFSETTO:-0500
TZNAME:CDT
DTSTART:20250309T080000
END:DAYLIGHT
BEGIN:STANDARD
TZOFFSETFROM:-0500
TZOFFSETTO:-0600
TZNAME:CST
DTSTART:20251102T070000
END:STANDARD
BEGIN:DAYLIGHT
TZOFFSETFROM:-0600
TZOFFSETTO:-0500
TZNAME:CDT
DTSTART:20260308T080000
END:DAYLIGHT
BEGIN:STANDARD
TZOFFSETFROM:-0500
TZOFFSETTO:-0600
TZNAME:CST
DTSTART:20261101T070000
END:STANDARD
END:VTIMEZONE
BEGIN:VEVENT
DTSTART;TZID=America/Chicago:20250820T113000
DTEND;TZID=America/Chicago:20250820T130000
DTSTAMP:20260422T034900
CREATED:20250724T163227Z
LAST-MODIFIED:20250724T163227Z
UID:10005057-1755689400-1755694800@cajuncoast.com
SUMMARY:Bayou Bend Lunch & Learn presents Rooted in Health: Growing & Eating Well this Fall!
DESCRIPTION:Join them for August’s Lunch & Learn series in the Conference Center inside the Wellness Center at Bayou Bend.\nMaster Gardner Ingrid M. Butler will kick off the program by exploring the benefits of fall gardening\,\nincluding preparing your green space and growing fall produce like greens\, beans\, carrots\, beets\, squash\, cucumber\, onions\, & garlic.\nDebra Broussard Taghehchian\, Nutrition and Community Health Agent with LSU AgCenter\, will then present the health benefits of\neating all the produce from Ingris’s fall garden. This month’s presentation will conclude with a raffle prize drawing!\nParticipants will be treated to a complimentary lunch courtesy of their sponsors Knights of Columbus council 1420 and Enos & Veronica Fangue.\nParticipants may also bring their own lunch. This event is free to attend\, but registration is required to ensure enough seating and lunches.\nTo inquire about this event and/or pre-register\, please call the Bayou Bend Fitness Center font desk at (337) 413-5104 or stop by at 1029 Northwest Blvd. in Franklin.
URL:https://cajuncoast.com/event/bayou-bend-lunch-learn-presents-rooted-in-health-growing-eating-well-this-fall/
LOCATION:Bayou Bend Wellness Center\, 1097 Northwest Blvd.\, Franklin\, LA\, 70538\, United States
ATTACH;FMTTYPE=image/jpeg:https://cajuncoast.com/wp-content/uploads/2025/07/Lunch-Learn-cajun-coast-e1753374650844.jpg
ORGANIZER;CN="Bayou Bend Fitness Center":MAILTO:membership@bayoubendhealth.org
END:VEVENT
BEGIN:VEVENT
DTSTART;TZID=America/Chicago:20241010T113000
DTEND;TZID=America/Chicago:20241010T123000
DTSTAMP:20260422T034900
CREATED:20240927T205139Z
LAST-MODIFIED:20240930T151919Z
UID:10003056-1728559800-1728563400@cajuncoast.com
SUMMARY:Bayou Bend Brown Bag Club: Created to Move
DESCRIPTION:Hosted by Bayou Bend Fitness Center\, Bayou Bend Health System\, and Bayou Bend Conference Center.\nJoin us for October’s Bayou Bend Brown Bag Club series in the Conference Center inside the Wellness Center at Bayou Bend.\nThis lunch club offers rotating hosts and topics each month.\nOctober’s topic\, “Created to Move: Posture & Function\,” will be an inspirational\, informational\, and\nmotivational presentation by Stacie E. Molaison\, owner and operator of Power & Grace Pilates.\nStacie has over 35 years of experience as a group fitness instructor and nearly a decade of personal training under her belt.\nHere\, she will discuss the importance of our posture and function of our body.\nAttendees will learn some of the muscles that are used or not used\, and the daily habits or lack of movement that affect us.\nLearn practical ways to start where you are in live and be motivated to just move!\nThis event is FREE to attend\, but we do ask that you please pre-register to ensure enough seating and lunches.\nTo inquire about this event and/or pre-register\, please call the Bayou Bend Fitness Center front desk\nat (337) 413-5104 or stop by in person at 1029 Northwest Blvd. in Franklin
URL:https://cajuncoast.com/event/bayou-bend-brown-bag-club-created-to-move/
LOCATION:Bayou Bend Wellness Center\, 1097 Northwest Blvd.\, Franklin\, LA\, 70538\, United States
ATTACH;FMTTYPE=image/jpeg:https://cajuncoast.com/wp-content/uploads/2024/09/Bayou-Bend-Brown-Bag-Club-Created-to-Move-scaled-e1727709550588.jpg
ORGANIZER;CN="Bayou Bend Fitness Center":MAILTO:membership@bayoubendhealth.org
END:VEVENT
BEGIN:VEVENT
DTSTART;TZID=America/Chicago:20240720T183000
DTEND;TZID=America/Chicago:20240720T213000
DTSTAMP:20260422T034900
CREATED:20240524T163758Z
LAST-MODIFIED:20240626T214417Z
UID:10001929-1721500200-1721511000@cajuncoast.com
SUMMARY:1st Anniversary Celebration Party for the Wellness Center at Bayou Bend
DESCRIPTION:Bayou Bend is presenting “Shake Your Sneakers” for the Wellness Center’s 1st anniversary celebration Party. \n“Shake Your Sneakers” will feature food\, drinks\, live music\, raffle prizes\, and more. \nMusic by Johnny Chauvin and Special Guests Meredith Boudreaux and Ed Gore \nDonation -Based General Admission at the Door \nReserve at Table – $50 for 6 top\, $80 for 10 top.  Optional table decorating contest for all who reserve a table. \nCasual Dress – Show off Those Sneakers!\nEveryone can participate in the Best Sneaker Contest! \nProceeds from this event will benefit St. Mary Council on Aging – a great time for a great cause! \nMore information will be coming soon. Sponsorships and donations are welcome. \nCall 337-355-1360 or email at events@bayoubendhealth.org for more information.
URL:https://cajuncoast.com/event/1st-anniversary-celebration-party-for-the-wellness-center-at-bayou-bend/
LOCATION:Bayou Bend Wellness Center\, 1097 Northwest Blvd.\, Franklin\, LA\, 70538\, United States
CATEGORIES:Live Music
ATTACH;FMTTYPE=image/jpeg:https://cajuncoast.com/wp-content/uploads/2024/05/Shake-Your-Sneakers-e1716568666234.jpg
ORGANIZER;CN="Bayou Bend Wellness Center":MAILTO:membership@bayoubendhealth.org
END:VEVENT
BEGIN:VEVENT
DTSTART;TZID=America/Chicago:20240321T113000
DTEND;TZID=America/Chicago:20240321T123000
DTSTAMP:20260422T034900
CREATED:20240322T200147Z
LAST-MODIFIED:20240322T200147Z
UID:10001396-1711020600-1711024200@cajuncoast.com
SUMMARY:Bayou Bend Brown Bag Club: Nutrition Month
DESCRIPTION:Hosted by Bayou Bend Fitness Center and Bayou Bend Health System.\nFrom 11:30 AM – 12:30 PM for March’s Bayou Bend Brown Bag Club series in the Conference Center inside the Wellness Center at Bayou Bend.\nMarch is National Nutrition Month\, and Bayou Bend’s Registered Dietitian/Nutritionist\, Brianne Burgess\,\nwill be providing guests with helpful information about eating right and everyday nutrition facts.\nGuests can bring their own lunch\, or a FREE lunch will be provided courtesy of Bayou Bend Health System and Bayou Bend Fitness Center.\nThis event is FREE to attend\, but we do ask that you please pre-register to ensure there is enough seating and lunches.\nTo enquire about this event or to pre-register\, please call the Bayou Bend Fitness Center front desk at (337) 413-5104\nor stop by in person at 1029 Northwest Blvd. in Franklin.
URL:https://cajuncoast.com/event/bayou-bend-brown-bag-club-nutrition-month/
LOCATION:Bayou Bend Wellness Center\, 1097 Northwest Blvd.\, Franklin\, LA\, 70538\, United States
ORGANIZER;CN="Bayou Bend Fitness Center":MAILTO:membership@bayoubendhealth.org
END:VEVENT
BEGIN:VEVENT
DTSTART;TZID=America/Chicago:20240220T113000
DTEND;TZID=America/Chicago:20240220T123000
DTSTAMP:20260422T034900
CREATED:20240202T210943Z
LAST-MODIFIED:20240208T213603Z
UID:10001325-1708428600-1708432200@cajuncoast.com
SUMMARY:Bayou Bend Brown Bag Club: Heart Health R. Dr. Brent Rochon
DESCRIPTION:Join us and the Bayou Bend Fitness Center in the Bayou Bend Conference Center on February 22nd from 11:30 AM – 12:30 PM for the BBHS Brown Bag Club.\n\n\nFebruary is Heart Health Month\, and Cardiologist Brent Rochon\, MD will speak to participants about all matters of the heart while they enjoy a FREE brown bag lunch sponsored by Rochon Cardiology.\n\n\nThis event\, including lunch\, is free and open to the public. Please register by calling (337) 413-5106 or visit the Fitness Center front desk at 1029 Northwest Blvd. in Franklin.
URL:https://cajuncoast.com/event/bayou-bend-brown-bag-club-heart-health-r-dr-brent-rochon/
LOCATION:Bayou Bend Wellness Center\, 1097 Northwest Blvd.\, Franklin\, LA\, 70538\, United States
END:VEVENT
BEGIN:VEVENT
DTSTART;TZID=America/Chicago:20231020T180000
DTEND;TZID=America/Chicago:20231020T200000
DTSTAMP:20260422T034900
CREATED:20231018T134210Z
LAST-MODIFIED:20231018T134210Z
UID:10000144-1697824800-1697832000@cajuncoast.com
SUMMARY:First Annual Bayou Bend Boo Fest!
DESCRIPTION:Are you looking for something fun and safe to do with your little “boos” this Halloween? Bring them over to the Bayou Bend Conference Center for our first annual BAYOU BEND BOO FEST on Friday\, October 20th from 6:00 – 8:00 PM!  Kids of all ages can enjoy Halloween-themed games\, face painting\, photo ops\, and a s’more station*! Recommended for ages 2-12. And costumes are welcome!  Entry fees are $5 per child for Bayou Bend Fitness Center members and $8 per child for non-members. Please stop by the Fitness Center front desk to pre-register before the event.  *S’more packs are an additional $1 each.
URL:https://cajuncoast.com/event/first-annual-bayou-bend-boo-fest/
LOCATION:Bayou Bend Wellness Center\, 1097 Northwest Blvd.\, Franklin\, LA\, 70538\, United States
END:VEVENT
BEGIN:VEVENT
DTSTART;TZID=America/Chicago:20230921T000000
DTEND;TZID=America/Chicago:20230921T000000
DTSTAMP:20260422T034900
CREATED:20230914T154427Z
LAST-MODIFIED:20230914T154427Z
UID:10000073-1695254400-1695254400@cajuncoast.com
SUMMARY:St. Mary Parish President Political Forum
DESCRIPTION:St. Mary Chamber of Commerce’s Political Forum.
URL:https://cajuncoast.com/event/st-mary-parish-president-political-forum/
LOCATION:Bayou Bend Wellness Center\, 1097 Northwest Blvd.\, Franklin\, LA\, 70538\, United States
END:VEVENT
END:VCALENDAR