BEGIN:VCALENDAR
VERSION:2.0
PRODID:-//cajuncoast.com - ECPv6.15.20//NONSGML v1.0//EN
CALSCALE:GREGORIAN
METHOD:PUBLISH
X-WR-CALNAME:cajuncoast.com
X-ORIGINAL-URL:https://cajuncoast.com
X-WR-CALDESC:Events for cajuncoast.com
REFRESH-INTERVAL;VALUE=DURATION:PT1H
X-Robots-Tag:noindex
X-PUBLISHED-TTL:PT1H
BEGIN:VTIMEZONE
TZID:America/Chicago
BEGIN:DAYLIGHT
TZOFFSETFROM:-0600
TZOFFSETTO:-0500
TZNAME:CDT
DTSTART:20240310T080000
END:DAYLIGHT
BEGIN:STANDARD
TZOFFSETFROM:-0500
TZOFFSETTO:-0600
TZNAME:CST
DTSTART:20241103T070000
END:STANDARD
BEGIN:DAYLIGHT
TZOFFSETFROM:-0600
TZOFFSETTO:-0500
TZNAME:CDT
DTSTART:20250309T080000
END:DAYLIGHT
BEGIN:STANDARD
TZOFFSETFROM:-0500
TZOFFSETTO:-0600
TZNAME:CST
DTSTART:20251102T070000
END:STANDARD
BEGIN:DAYLIGHT
TZOFFSETFROM:-0600
TZOFFSETTO:-0500
TZNAME:CDT
DTSTART:20260308T080000
END:DAYLIGHT
BEGIN:STANDARD
TZOFFSETFROM:-0500
TZOFFSETTO:-0600
TZNAME:CST
DTSTART:20261101T070000
END:STANDARD
END:VTIMEZONE
BEGIN:VEVENT
DTSTART;TZID=America/Chicago:20250426T190000
DTEND;TZID=America/Chicago:20250426T210000
DTSTAMP:20260423T055059
CREATED:20250327T162444Z
LAST-MODIFIED:20250327T162444Z
UID:10004422-1745694000-1745701200@cajuncoast.com
SUMMARY:Trivia Night
DESCRIPTION:Hosted by Autism Society Bayou at Bayou L’Ourse Rec Center\, 1213 LA-662\, Morgan City.\nDoors open at 6 pm\, and games begin at 7 pm.\nGather your family and friends and come have a good time by supporting Autism Society Bayou.\nAll proceeds go to their Teacher Grant Program! $25 for an individual ticket and $150 for a table ticket.\nSix people per team. There will be a contest- Best Themed Team\, Silent auction\, food\, sweets\, drinks\,\n$100 Note game\, and beer & Wine available for purchase. Please register; seating is limited.\nFor questions\, please contact Dawn Spinella (985) 397-3812 or email bayouautism@yahoo.com \n  \n. \n  \n 
URL:https://cajuncoast.com/event/trivia-night/
LOCATION:Bayou L’Ourse Rec Center\, 1213 LA-662\, Morgan City\, LA\, 70380\, United States
ATTACH;FMTTYPE=image/jpeg:https://cajuncoast.com/wp-content/uploads/2025/03/Trivia-Night-pt.1-cajun-coast-e1743092632610.jpg
ORGANIZER;CN="Bayou Autism Society":MAILTO:bayouautism@yahoo.com
END:VEVENT
END:VCALENDAR