BEGIN:VCALENDAR
VERSION:2.0
PRODID:-//cajuncoast.com - ECPv6.15.20//NONSGML v1.0//EN
CALSCALE:GREGORIAN
METHOD:PUBLISH
X-WR-CALNAME:cajuncoast.com
X-ORIGINAL-URL:https://cajuncoast.com
X-WR-CALDESC:Events for cajuncoast.com
REFRESH-INTERVAL;VALUE=DURATION:PT1H
X-Robots-Tag:noindex
X-PUBLISHED-TTL:PT1H
BEGIN:VTIMEZONE
TZID:America/Chicago
BEGIN:DAYLIGHT
TZOFFSETFROM:-0600
TZOFFSETTO:-0500
TZNAME:CDT
DTSTART:20230312T080000
END:DAYLIGHT
BEGIN:STANDARD
TZOFFSETFROM:-0500
TZOFFSETTO:-0600
TZNAME:CST
DTSTART:20231105T070000
END:STANDARD
BEGIN:DAYLIGHT
TZOFFSETFROM:-0600
TZOFFSETTO:-0500
TZNAME:CDT
DTSTART:20240310T080000
END:DAYLIGHT
BEGIN:STANDARD
TZOFFSETFROM:-0500
TZOFFSETTO:-0600
TZNAME:CST
DTSTART:20241103T070000
END:STANDARD
BEGIN:DAYLIGHT
TZOFFSETFROM:-0600
TZOFFSETTO:-0500
TZNAME:CDT
DTSTART:20250309T080000
END:DAYLIGHT
BEGIN:STANDARD
TZOFFSETFROM:-0500
TZOFFSETTO:-0600
TZNAME:CST
DTSTART:20251102T070000
END:STANDARD
END:VTIMEZONE
BEGIN:VEVENT
DTSTART;TZID=America/Chicago:20240427T140000
DTEND;TZID=America/Chicago:20240427T160000
DTSTAMP:20260421T074654
CREATED:20240322T200009Z
LAST-MODIFIED:20240322T200009Z
UID:10001404-1714226400-1714233600@cajuncoast.com
SUMMARY:Hustle For Hope 5K
DESCRIPTION:On Saturday\, April 27th\, we will be hosting a Hustle for Hope 5k at Berwick Walking Trail benefiting the HIE Foundation.   Come rain or shine!  Rise and grind for HIE! There will be refreshments.  Time: 2 pm to 4 pm\nIf you register within the same week as the scheduled event\, we cannot guarantee you’ll receive your packet beforehand.\n\nPrice: $25.00 Race Fee + 2.50 signup fee\nRegistration: Price increases to $30.00 after March 15\, 2024\, at 11:59 pm EDT\n\n\nRegister:  TINYURL.COM/HUSTLEFORHOPE
URL:https://cajuncoast.com/event/hustle-for-hope-5k/
LOCATION:Berwick Walking Trail\, Berwick\, LA\, 70342\, United States
END:VEVENT
END:VCALENDAR