BEGIN:VCALENDAR
VERSION:2.0
PRODID:-//cajuncoast.com - ECPv6.15.20//NONSGML v1.0//EN
CALSCALE:GREGORIAN
METHOD:PUBLISH
X-ORIGINAL-URL:https://cajuncoast.com
X-WR-CALDESC:Events for cajuncoast.com
REFRESH-INTERVAL;VALUE=DURATION:PT1H
X-Robots-Tag:noindex
X-PUBLISHED-TTL:PT1H
BEGIN:VTIMEZONE
TZID:America/Chicago
BEGIN:DAYLIGHT
TZOFFSETFROM:-0600
TZOFFSETTO:-0500
TZNAME:CDT
DTSTART:20240310T080000
END:DAYLIGHT
BEGIN:STANDARD
TZOFFSETFROM:-0500
TZOFFSETTO:-0600
TZNAME:CST
DTSTART:20241103T070000
END:STANDARD
BEGIN:DAYLIGHT
TZOFFSETFROM:-0600
TZOFFSETTO:-0500
TZNAME:CDT
DTSTART:20250309T080000
END:DAYLIGHT
BEGIN:STANDARD
TZOFFSETFROM:-0500
TZOFFSETTO:-0600
TZNAME:CST
DTSTART:20251102T070000
END:STANDARD
BEGIN:DAYLIGHT
TZOFFSETFROM:-0600
TZOFFSETTO:-0500
TZNAME:CDT
DTSTART:20260308T080000
END:DAYLIGHT
BEGIN:STANDARD
TZOFFSETFROM:-0500
TZOFFSETTO:-0600
TZNAME:CST
DTSTART:20261101T070000
END:STANDARD
END:VTIMEZONE
BEGIN:VEVENT
DTSTART;TZID=America/Chicago:20250724T173000
DTEND;TZID=America/Chicago:20250724T193000
DTSTAMP:20260423T185331
CREATED:20250617T185633Z
LAST-MODIFIED:20250623T151631Z
UID:10004997-1753378200-1753385400@cajuncoast.com
SUMMARY:Bayou BBQ Bash Kick-Off Party
DESCRIPTION:Join us at the Holiday Inn Express for the official BBQ Bash Kick-Off Party\,\nbrought to you by the St. Mary Chamber of Commerce and holiday Inn Express!\nEnjoy some sample BBQ and Networking.\nThis FREE event is open to the public and sets the stage for the main event!
URL:https://cajuncoast.com/event/bayou-bbq-bash-kick-off-party/
LOCATION:Holiday Inn Express\, 704 Martin Luther King Jr. BLVD\, Morgan City\, LA\, 70380\, United States
ATTACH;FMTTYPE=image/jpeg:https://cajuncoast.com/wp-content/uploads/2025/06/BbQ-Bash-Kick-off-Party-cajun-coast-e1750691782519.jpg
ORGANIZER;CN="St. Mary Chamber of Commerce":MAILTO:infor@stmarychamber.com
END:VEVENT
END:VCALENDAR