BEGIN:VCALENDAR
VERSION:2.0
PRODID:-//cajuncoast.com - ECPv6.15.20//NONSGML v1.0//EN
CALSCALE:GREGORIAN
METHOD:PUBLISH
X-ORIGINAL-URL:https://cajuncoast.com
X-WR-CALDESC:Events for cajuncoast.com
REFRESH-INTERVAL;VALUE=DURATION:PT1H
X-Robots-Tag:noindex
X-PUBLISHED-TTL:PT1H
BEGIN:VTIMEZONE
TZID:America/Chicago
BEGIN:DAYLIGHT
TZOFFSETFROM:-0600
TZOFFSETTO:-0500
TZNAME:CDT
DTSTART:20230312T080000
END:DAYLIGHT
BEGIN:STANDARD
TZOFFSETFROM:-0500
TZOFFSETTO:-0600
TZNAME:CST
DTSTART:20231105T070000
END:STANDARD
BEGIN:DAYLIGHT
TZOFFSETFROM:-0600
TZOFFSETTO:-0500
TZNAME:CDT
DTSTART:20240310T080000
END:DAYLIGHT
BEGIN:STANDARD
TZOFFSETFROM:-0500
TZOFFSETTO:-0600
TZNAME:CST
DTSTART:20241103T070000
END:STANDARD
BEGIN:DAYLIGHT
TZOFFSETFROM:-0600
TZOFFSETTO:-0500
TZNAME:CDT
DTSTART:20250309T080000
END:DAYLIGHT
BEGIN:STANDARD
TZOFFSETFROM:-0500
TZOFFSETTO:-0600
TZNAME:CST
DTSTART:20251102T070000
END:STANDARD
BEGIN:DAYLIGHT
TZOFFSETFROM:-0600
TZOFFSETTO:-0500
TZNAME:CDT
DTSTART:20260308T080000
END:DAYLIGHT
BEGIN:STANDARD
TZOFFSETFROM:-0500
TZOFFSETTO:-0600
TZNAME:CST
DTSTART:20261101T070000
END:STANDARD
END:VTIMEZONE
BEGIN:VEVENT
DTSTART;TZID=America/Chicago:20251025T100000
DTEND;TZID=America/Chicago:20251025T160000
DTSTAMP:20260424T122214
CREATED:20251002T165521Z
LAST-MODIFIED:20251002T165521Z
UID:10006236-1761386400-1761408000@cajuncoast.com
SUMMARY:Scarecrow Contest
DESCRIPTION:Scarecrow Contest in conjunction with the Harvest Moon Festival.\nHosed by The Franklin Merchant’s Association.\nSet up your scarecrow from October 20th to 24th to be judged\, open for all\, during the Harvest Moon Festival.\nEntry fee is $10. Register by October 11th to claim yours. Each entry includes one bale.\nExtra bales are $8 each – reserved by October 11th.\nYou can set up your scarecrow in the Grass lot next to the Lamp Station ice cream shop.\nJudging will be categorized by people’s choice\, most creative\, and best school.\nWinners will be announced at 4 pm.\nPrizes are presented by The Franklin Merchants\, INC. Tara (985) 395-2985.
URL:https://cajuncoast.com/event/scarecrow-contest/
LOCATION:Lamp Station Ice Cream Shoppe\, 723 Main St.\, Franklin\, LA\, 70538\, United States
CATEGORIES:Annual Events
ATTACH;FMTTYPE=image/jpeg:https://cajuncoast.com/wp-content/uploads/2025/09/Scarecrow-contest-cajun-coast-e1759424105844.jpg
END:VEVENT
BEGIN:VEVENT
DTSTART;TZID=America/Chicago:20240712T110000
DTEND;TZID=America/Chicago:20240712T160000
DTSTAMP:20260424T122214
CREATED:20240712T161625Z
LAST-MODIFIED:20240712T161625Z
UID:10002081-1720782000-1720800000@cajuncoast.com
SUMMARY:Lamp Station Ice Cream Shop 3-year Celebration!
DESCRIPTION:Come out and celebrate with them!\nMore information coming soon!
URL:https://cajuncoast.com/event/lamp-station-ice-cream-shop-3-year-celebration/
LOCATION:Lamp Station Ice Cream Shoppe\, 723 Main St.\, Franklin\, LA\, 70538\, United States
END:VEVENT
BEGIN:VEVENT
DTSTART;TZID=America/Chicago:20240625T173000
DTEND;TZID=America/Chicago:20240625T190000
DTSTAMP:20260424T122214
CREATED:20240607T152641Z
LAST-MODIFIED:20240626T212255Z
UID:10001977-1719336600-1719342000@cajuncoast.com
SUMMARY:Sweet Summertime Survival Social
DESCRIPTION:Sweet Summertime Survival Social \nRoots & Ribbons Foundation invites Breast Cancer survivors to join. \nMeet up at Lamp Station Ice Cream Shoppe from 5:30 p.m. – 7 p.m. \n*This event is for St. Mary Parish Breast Cancer survivors & 1 guest. \nPlease text RSVP to Dee Hymel at: 985-518-6118 or by email to rootsandribbonsfoundation@gmail.com by June 21st.
URL:https://cajuncoast.com/event/sweet-summertime-survival-social/
LOCATION:Lamp Station Ice Cream Shoppe\, 723 Main St.\, Franklin\, LA\, 70538\, United States
ATTACH;FMTTYPE=image/jpeg:https://cajuncoast.com/wp-content/uploads/2024/06/Sweet-Summertime-Survival-Social-e1717773983298.jpg
ORGANIZER;CN="Roots &amp%3B Ribbons Foundation":MAILTO:rootsandribbonsfoundation@gmail.com
END:VEVENT
END:VCALENDAR