BEGIN:VCALENDAR
VERSION:2.0
PRODID:-//cajuncoast.com - ECPv6.15.20//NONSGML v1.0//EN
CALSCALE:GREGORIAN
METHOD:PUBLISH
X-ORIGINAL-URL:https://cajuncoast.com
X-WR-CALDESC:Events for cajuncoast.com
REFRESH-INTERVAL;VALUE=DURATION:PT1H
X-Robots-Tag:noindex
X-PUBLISHED-TTL:PT1H
BEGIN:VTIMEZONE
TZID:America/Chicago
BEGIN:DAYLIGHT
TZOFFSETFROM:-0600
TZOFFSETTO:-0500
TZNAME:CDT
DTSTART:20230312T080000
END:DAYLIGHT
BEGIN:STANDARD
TZOFFSETFROM:-0500
TZOFFSETTO:-0600
TZNAME:CST
DTSTART:20231105T070000
END:STANDARD
BEGIN:DAYLIGHT
TZOFFSETFROM:-0600
TZOFFSETTO:-0500
TZNAME:CDT
DTSTART:20240310T080000
END:DAYLIGHT
BEGIN:STANDARD
TZOFFSETFROM:-0500
TZOFFSETTO:-0600
TZNAME:CST
DTSTART:20241103T070000
END:STANDARD
BEGIN:DAYLIGHT
TZOFFSETFROM:-0600
TZOFFSETTO:-0500
TZNAME:CDT
DTSTART:20250309T080000
END:DAYLIGHT
BEGIN:STANDARD
TZOFFSETFROM:-0500
TZOFFSETTO:-0600
TZNAME:CST
DTSTART:20251102T070000
END:STANDARD
END:VTIMEZONE
BEGIN:VEVENT
DTSTART;TZID=America/Chicago:20240504T110000
DTEND;TZID=America/Chicago:20240504T190000
DTSTAMP:20260424T121331
CREATED:20231022T213205Z
LAST-MODIFIED:20240429T185234Z
UID:10000158-1714820400-1714849200@cajuncoast.com
SUMMARY:Mama G's Bar & Grill Swamp Pop Festival
DESCRIPTION:6 Fantastic Bands\, Food Vendors\, Arts and Crafts and a fun filled day for the family. So far we have 6 wonderful food trucks signed up as well as 27 arts and crafts booths!!!! \nThe Friday night we will have the official kickoff party with Justin Cornett & Denver Mayeux!!! \nSaturday music lineup on the main stage : \n11-12. Gary T. Thibodaux & Donald Babin Tet Dur\n12:15-1:15. Justin Cornett Band\n1:30-2:30. Kenny Fife Band\n2:45-3:45. Brad Sapia Band\n4:00-5:00. Cliff Hillebran & Sidepiece Band\n5:15-6:30. Swampland Revival \nDj Jessie James & Jason Rulf will be playing all you favorite hits in between!!! \nBut it doesn’t stop there!!!! At 7:00 inside Mama G’s Swamp Pop after party with Johnny Chauvin!!!!
URL:https://cajuncoast.com/event/mama-gs-bar-grill-swamp-pop-festival/
LOCATION:Mama G’s Sports Bar & Grill\, 7540 Highway 182 E\, Morgan City\, LA\, 70380\, United States
ATTACH;FMTTYPE=image/jpeg:https://cajuncoast.com/wp-content/uploads/2023/10/Swamp-pop-fest-e1713216718518.jpg
END:VEVENT
BEGIN:VEVENT
DTSTART;VALUE=DATE:20240315
DTEND;VALUE=DATE:20240316
DTSTAMP:20260424T121331
CREATED:20240227T214342Z
LAST-MODIFIED:20240227T221320Z
UID:10001350-1710460800-1710547199@cajuncoast.com
SUMMARY:Live Music
DESCRIPTION:Enjoy some live music by Don Rich\nat Mama G’s Bar & Grill\, 7540 HWY 182 E.\nYou must be 21 to enter and no smoking allowed.\nFor more information\, please call Mama G’s at (985) 385-3344.
URL:https://cajuncoast.com/event/live-music-3/
LOCATION:Mama G’s Sports Bar & Grill\, 7540 Highway 182 E\, Morgan City\, LA\, 70380\, United States
CATEGORIES:Live Music
ORGANIZER;CN="Mama G's Sports Bar &amp%3B Grill":MAILTO:mamaglounge@gmail.com
END:VEVENT
END:VCALENDAR