BEGIN:VCALENDAR
VERSION:2.0
PRODID:-//cajuncoast.com - ECPv6.15.20//NONSGML v1.0//EN
CALSCALE:GREGORIAN
METHOD:PUBLISH
X-WR-CALNAME:cajuncoast.com
X-ORIGINAL-URL:https://cajuncoast.com
X-WR-CALDESC:Events for cajuncoast.com
REFRESH-INTERVAL;VALUE=DURATION:PT1H
X-Robots-Tag:noindex
X-PUBLISHED-TTL:PT1H
BEGIN:VTIMEZONE
TZID:America/Chicago
BEGIN:DAYLIGHT
TZOFFSETFROM:-0600
TZOFFSETTO:-0500
TZNAME:CDT
DTSTART:20250309T080000
END:DAYLIGHT
BEGIN:STANDARD
TZOFFSETFROM:-0500
TZOFFSETTO:-0600
TZNAME:CST
DTSTART:20251102T070000
END:STANDARD
BEGIN:DAYLIGHT
TZOFFSETFROM:-0600
TZOFFSETTO:-0500
TZNAME:CDT
DTSTART:20260308T080000
END:DAYLIGHT
BEGIN:STANDARD
TZOFFSETFROM:-0500
TZOFFSETTO:-0600
TZNAME:CST
DTSTART:20261101T070000
END:STANDARD
BEGIN:DAYLIGHT
TZOFFSETFROM:-0600
TZOFFSETTO:-0500
TZNAME:CDT
DTSTART:20270314T080000
END:DAYLIGHT
BEGIN:STANDARD
TZOFFSETFROM:-0500
TZOFFSETTO:-0600
TZNAME:CST
DTSTART:20271107T070000
END:STANDARD
END:VTIMEZONE
BEGIN:VEVENT
DTSTART;TZID=America/Chicago:20260328T100000
DTEND;TZID=America/Chicago:20260328T140000
DTSTAMP:20260420T164321
CREATED:20260325T211305Z
LAST-MODIFIED:20260325T211305Z
UID:10007057-1774692000-1774706400@cajuncoast.com
SUMMARY:KOS HBCU College Fair
DESCRIPTION:Hosted by Krewe of Sheba Est. 2024.\nThis is a FREE event & open to all high school students & their parents\nwho want to explore the power\, pride\, & opportunity of HBCU education.\nYou will be able to connect directly with representatives from Southern University & A&M College\,\nGrambling State University\, Dillard University\, Xavier University of Louisiana.\nAdmissions representatives will be on hand to share information\, answer questions\, &\nhelp students start their journey toward higher education.\nRepresentatives from the Louisiana Office of Student Financial Assistance (LOFSA)\nwill be there to help with Financial Aid inquiries. Find out about scholarships & grant available.\nThe first 50 registered attendees will receive a special gift from the Queens of KREWE OF SHEBA.\nStudents may register in advance & are encouraged to use the link https://tinyurl.com/KOS-HBCU-COLLEGE-FAIR.
URL:https://cajuncoast.com/event/kos-hbcu-college-fair/
LOCATION:Siracusa Recreational Center\, 1110 Grace Street\, Morgan City\, LA\, 70380\, United States
ATTACH;FMTTYPE=image/jpeg:https://cajuncoast.com/wp-content/uploads/2026/03/Krewe-of-Sheba-cajun-coast-e1774473176113.jpg
ORGANIZER;CN="Krewe of Sheba":MAILTO:Info@kreweofsheba.com
END:VEVENT
END:VCALENDAR