BEGIN:VCALENDAR
VERSION:2.0
PRODID:-//cajuncoast.com - ECPv6.15.20//NONSGML v1.0//EN
CALSCALE:GREGORIAN
METHOD:PUBLISH
X-WR-CALNAME:cajuncoast.com
X-ORIGINAL-URL:https://cajuncoast.com
X-WR-CALDESC:Events for cajuncoast.com
REFRESH-INTERVAL;VALUE=DURATION:PT1H
X-Robots-Tag:noindex
X-PUBLISHED-TTL:PT1H
BEGIN:VTIMEZONE
TZID:America/Chicago
BEGIN:DAYLIGHT
TZOFFSETFROM:-0600
TZOFFSETTO:-0500
TZNAME:CDT
DTSTART:20230312T080000
END:DAYLIGHT
BEGIN:STANDARD
TZOFFSETFROM:-0500
TZOFFSETTO:-0600
TZNAME:CST
DTSTART:20231105T070000
END:STANDARD
BEGIN:DAYLIGHT
TZOFFSETFROM:-0600
TZOFFSETTO:-0500
TZNAME:CDT
DTSTART:20240310T080000
END:DAYLIGHT
BEGIN:STANDARD
TZOFFSETFROM:-0500
TZOFFSETTO:-0600
TZNAME:CST
DTSTART:20241103T070000
END:STANDARD
BEGIN:DAYLIGHT
TZOFFSETFROM:-0600
TZOFFSETTO:-0500
TZNAME:CDT
DTSTART:20250309T080000
END:DAYLIGHT
BEGIN:STANDARD
TZOFFSETFROM:-0500
TZOFFSETTO:-0600
TZNAME:CST
DTSTART:20251102T070000
END:STANDARD
BEGIN:DAYLIGHT
TZOFFSETFROM:-0600
TZOFFSETTO:-0500
TZNAME:CDT
DTSTART:20260308T080000
END:DAYLIGHT
BEGIN:STANDARD
TZOFFSETFROM:-0500
TZOFFSETTO:-0600
TZNAME:CST
DTSTART:20261101T070000
END:STANDARD
BEGIN:DAYLIGHT
TZOFFSETFROM:-0600
TZOFFSETTO:-0500
TZNAME:CDT
DTSTART:20270314T080000
END:DAYLIGHT
BEGIN:STANDARD
TZOFFSETFROM:-0500
TZOFFSETTO:-0600
TZNAME:CST
DTSTART:20271107T070000
END:STANDARD
END:VTIMEZONE
BEGIN:VEVENT
DTSTART;TZID=America/Chicago:20260110T100000
DTEND;TZID=America/Chicago:20260110T160000
DTSTAMP:20260422T231738
CREATED:20260105T214431Z
LAST-MODIFIED:20260105T214431Z
UID:10006679-1768039200-1768060800@cajuncoast.com
SUMMARY:Mardi Gras Launch Party!
DESCRIPTION:Hosted by Southern Sork Sneak Peek boutique.\nJoin them as they launch their Mardi Gras collection for 2026!\nLaissez les bons temps rouler at Southern Stork with some complimentary king cake while you shop!\nClothing\, accessories & shoes – brand new and exclusive to Southern Stork\,\nwith styles you will not find anywhere else for those littles!\nBring a friend and come pass a good time\, sha!
URL:https://cajuncoast.com/event/mardi-gras-launch-party/
LOCATION:Southern Stork Sneak Peek & Boutique\, 823 Ninth St.\, Morgan City\, LA\, 70380\, United States
ATTACH;FMTTYPE=image/jpeg:https://cajuncoast.com/wp-content/uploads/2026/01/Southern-Stork-Sneak-Peek-Boutique-cajun-coast-e1767649455698.jpg
ORGANIZER;CN="Southern Stork Sneak Peek &amp%3B Boutique":MAILTO:Southernstorkla@gmail.com
END:VEVENT
BEGIN:VEVENT
DTSTART;TZID=America/Chicago:20250329T100000
DTEND;TZID=America/Chicago:20250329T160000
DTSTAMP:20260422T231738
CREATED:20250312T214032Z
LAST-MODIFIED:20250312T214032Z
UID:10004404-1743242400-1743264000@cajuncoast.com
SUMMARY:Sidewalk Sale
DESCRIPTION:Hosted by Southern Stork Sneak Peek & Boutique; 823 Ninth St.\nJoin this boutique for a sidewalk sale & all season inventory blowout event!\nPrices as low as $5 for items. Cajun Cost Coffee truck will be there as well as Ginger Snap Creations with Easter cookie kits!\nCrab your friends\, your coffee\, cookies\, credit cards\, & come shop! From 10 am to 4 pm.
URL:https://cajuncoast.com/event/sidewalk-sale/
LOCATION:Southern Stork Sneak Peek & Boutique\, 823 Ninth St.\, Morgan City\, LA\, 70380\, United States
ATTACH;FMTTYPE=image/jpeg:https://cajuncoast.com/wp-content/uploads/2025/03/Southern-Stork-Sneak-Peek-Boutique-cajun-coast-e1741815617842.jpg
ORGANIZER;CN="Southern Stork Sneak Peek &amp%3B Boutique":MAILTO:Southernstorkla@gmail.com
END:VEVENT
BEGIN:VEVENT
DTSTART;TZID=America/Chicago:20240810T100000
DTEND;TZID=America/Chicago:20240810T140000
DTSTAMP:20260422T231738
CREATED:20240726T155015Z
LAST-MODIFIED:20240801T172142Z
UID:10002404-1723284000-1723298400@cajuncoast.com
SUMMARY:Southern Stork’s One Year Anniversary!
DESCRIPTION:Hosted by Southern Stork Sneak Peek & Boutique\, Celina LeBlanc\, and Zoe Delarosa.\nJoin us at Southern Stork Sneak Peek & Boutique from 10am – 2pm to celebrate one whole year of being open!\nThere will be donut holes\, refreshments\, music\, and giveaways/games.\nCajun coast Coffee truck will be there serving yummy coffees.\nGLAM + GEAUX Boutique’s Hat Bar & Permanent Jewelry will be hanging out with us!\n*More details to be posted on their Facebook as event is finalized*\nWe hope to see you there!
URL:https://cajuncoast.com/event/southern-storks-one-year-anniversary/
LOCATION:Southern Stork Sneak Peek & Boutique\, 823 Ninth St.\, Morgan City\, LA\, 70380\, United States
CATEGORIES:Live Music
ATTACH;FMTTYPE=image/jpeg:https://cajuncoast.com/wp-content/uploads/2024/07/1-year-anniversary-e1722532826658.jpg
ORGANIZER;CN="Southern Stork Sneak Peek &amp%3B Boutique":MAILTO:Southernstorkla@gmail.com
END:VEVENT
BEGIN:VEVENT
DTSTART;TZID=America/Chicago:20240727T100000
DTEND;TZID=America/Chicago:20240727T160000
DTSTAMP:20260422T231738
CREATED:20240722T143552Z
LAST-MODIFIED:20240722T143602Z
UID:10002365-1722074400-1722096000@cajuncoast.com
SUMMARY:Pop Up Event
DESCRIPTION:Pop Up Event at Southern Stork Sneak Peek & Boutique; 823 Ninth St.\nGet an ultrasound\, baby clothes\, and get linked! From 10am – 4pm.
URL:https://cajuncoast.com/event/pop-up-event/
LOCATION:Southern Stork Sneak Peek & Boutique\, 823 Ninth St.\, Morgan City\, LA\, 70380\, United States
ATTACH;FMTTYPE=image/jpeg:https://cajuncoast.com/wp-content/uploads/2024/07/La-linxed-e1721658945504.jpg
ORGANIZER;CN="La Linxed":MAILTO:lalinxed@yahoo.com
END:VEVENT
END:VCALENDAR