BEGIN:VCALENDAR
VERSION:2.0
PRODID:-//cajuncoast.com - ECPv6.15.20//NONSGML v1.0//EN
CALSCALE:GREGORIAN
METHOD:PUBLISH
X-WR-CALNAME:cajuncoast.com
X-ORIGINAL-URL:https://cajuncoast.com
X-WR-CALDESC:Events for cajuncoast.com
REFRESH-INTERVAL;VALUE=DURATION:PT1H
X-Robots-Tag:noindex
X-PUBLISHED-TTL:PT1H
BEGIN:VTIMEZONE
TZID:America/Chicago
BEGIN:DAYLIGHT
TZOFFSETFROM:-0600
TZOFFSETTO:-0500
TZNAME:CDT
DTSTART:20230312T080000
END:DAYLIGHT
BEGIN:STANDARD
TZOFFSETFROM:-0500
TZOFFSETTO:-0600
TZNAME:CST
DTSTART:20231105T070000
END:STANDARD
BEGIN:DAYLIGHT
TZOFFSETFROM:-0600
TZOFFSETTO:-0500
TZNAME:CDT
DTSTART:20240310T080000
END:DAYLIGHT
BEGIN:STANDARD
TZOFFSETFROM:-0500
TZOFFSETTO:-0600
TZNAME:CST
DTSTART:20241103T070000
END:STANDARD
BEGIN:DAYLIGHT
TZOFFSETFROM:-0600
TZOFFSETTO:-0500
TZNAME:CDT
DTSTART:20250309T080000
END:DAYLIGHT
BEGIN:STANDARD
TZOFFSETFROM:-0500
TZOFFSETTO:-0600
TZNAME:CST
DTSTART:20251102T070000
END:STANDARD
BEGIN:DAYLIGHT
TZOFFSETFROM:-0600
TZOFFSETTO:-0500
TZNAME:CDT
DTSTART:20260308T080000
END:DAYLIGHT
BEGIN:STANDARD
TZOFFSETFROM:-0500
TZOFFSETTO:-0600
TZNAME:CST
DTSTART:20261101T070000
END:STANDARD
BEGIN:DAYLIGHT
TZOFFSETFROM:-0600
TZOFFSETTO:-0500
TZNAME:CDT
DTSTART:20270314T080000
END:DAYLIGHT
BEGIN:STANDARD
TZOFFSETFROM:-0500
TZOFFSETTO:-0600
TZNAME:CST
DTSTART:20271107T070000
END:STANDARD
END:VTIMEZONE
BEGIN:VEVENT
DTSTART;TZID=America/Chicago:20260304T160000
DTEND;TZID=America/Chicago:20260304T180000
DTSTAMP:20260420T083820
CREATED:20260227T162832Z
LAST-MODIFIED:20260227T162832Z
UID:10006988-1772640000-1772647200@cajuncoast.com
SUMMARY:Estate Planning Seminar
DESCRIPTION:Elder Law Presentation: Acadiana Elder Law Clinic\, Inc. presents an informative presentation focused on estate planning. Discover the significance of establishing a plan to protect your assets and loved ones. The speaker will address various topics\, including wills\, trusts\, probate\, and will also address any questions you might have. Don’t miss this opportunity!
URL:https://cajuncoast.com/event/estate-planning-seminar/
LOCATION:St. Mary Parish Library\, 206 Iberia Street\, Franklin\, LA\, 70538\, United States
ATTACH;FMTTYPE=image/jpeg:https://cajuncoast.com/wp-content/uploads/2026/02/Estate-Planning-Seminar-Cajun-Coast-Visitors-e1772209643822.jpg
END:VEVENT
BEGIN:VEVENT
DTSTART;TZID=America/Chicago:20250417T160000
DTEND;TZID=America/Chicago:20250417T180000
DTSTAMP:20260420T083820
CREATED:20250408T165216Z
LAST-MODIFIED:20250408T165216Z
UID:10004810-1744905600-1744912800@cajuncoast.com
SUMMARY:Egg Hunt\, Bunny Pictures & Planter Decor Seed Planting
DESCRIPTION:Hosted by St. Mary Parish Library\, 512 Catherine St\, Paterson. From 4 pm to 6 pm.\nPersonalize your own planter pot and plant seeds to celebrate Earth Month!\nSnap cute photos with the bunny before participating in the festive egg hunt\, starting at 5:30 PM.\nKeep an eye out for the golden egg to win a special prize! All Ages are invited!
URL:https://cajuncoast.com/event/egg-hunt-bunny-pictures-planter-decor-seed-planting/
LOCATION:St. Mary Parish Library\, 206 Iberia Street\, Franklin\, LA\, 70538\, United States
ATTACH;FMTTYPE=image/jpeg:https://cajuncoast.com/wp-content/uploads/2025/04/Egg-Hunt-Bunny-Pictures-Planter-Decor-Seed-Planting-cajun-coast-e1744131123521.jpg
ORGANIZER;CN="St. Mary Parish Libary":MAILTO:info@stmaryparishlibrary.org
END:VEVENT
BEGIN:VEVENT
DTSTART;TZID=America/Chicago:20250416T160000
DTEND;TZID=America/Chicago:20250416T180000
DTSTAMP:20260420T083820
CREATED:20250404T200437Z
LAST-MODIFIED:20250404T200437Z
UID:10004799-1744819200-1744826400@cajuncoast.com
SUMMARY:Egg Hunt Featuring a Cupcake Walk & Bunny Pictures
DESCRIPTION:Hosted by St. Mary Parish Library; 100 Charenton Rd\, Baldwin.\nJoin us for an exciting spring afternoon filled with fun activities!\nEnjoy a cupcake walk\, take adorable bunny pictures\, and participate in an egg hunt.\nThe egg hunt kicks off at 5:30 pm\, so be sure to seek out the golden egg for a special prize!\nOpen to all ages!
URL:https://cajuncoast.com/event/egg-hunt-featuring-a-cupcake-walk-bunny-pictures/
LOCATION:St. Mary Parish Library\, 206 Iberia Street\, Franklin\, LA\, 70538\, United States
ATTACH;FMTTYPE=image/jpeg:https://cajuncoast.com/wp-content/uploads/2025/04/St.-Mary-Parish-Library-Easter-Egg-Hunt-cajun-coast-e1743797071110.jpg
ORGANIZER;CN="St. Mary Parish Library":MAILTO:info@stmaryparishlibrary.org
END:VEVENT
BEGIN:VEVENT
DTSTART;TZID=America/Chicago:20250228T163000
DTEND;TZID=America/Chicago:20250228T173000
DTSTAMP:20260420T083820
CREATED:20250204T162946Z
LAST-MODIFIED:20250204T162946Z
UID:10004346-1740760200-1740763800@cajuncoast.com
SUMMARY:The TMM Project: Envision the Streets
DESCRIPTION:Hosted by St. Mary Parish Library.\nThe TMM Project offers a cultural journey that celebrates diverse street scenes through the arts\,\nfeaturing live music\, street dance\, step-dancing\, hip-hop\, and New Orleans Jazz\,\ninspired by African American Culture. Can you envision the streets?\nDon’t miss this performance\, open to all ages!
URL:https://cajuncoast.com/event/the-tmm-project-envision-the-streets-2/
LOCATION:St. Mary Parish Library\, 206 Iberia Street\, Franklin\, LA\, 70538\, United States
ATTACH;FMTTYPE=image/jpeg:https://cajuncoast.com/wp-content/uploads/2025/01/TMM-Project-Cajun-Coast-e1738605790738.jpg
ORGANIZER;CN="St. Mary Parish Library":MAILTO:info@stmaryparishlibrary.org
END:VEVENT
BEGIN:VEVENT
DTSTART;TZID=America/Chicago:20241209T160000
DTEND;TZID=America/Chicago:20241209T180000
DTSTAMP:20260420T083820
CREATED:20241122T201947Z
LAST-MODIFIED:20241122T202040Z
UID:10003952-1733760000-1733767200@cajuncoast.com
SUMMARY:Lady Chops: Here Comes the Bells\, So Many Bells
DESCRIPTION:Hosted by St. Mary Parish Library.\nCelebrate the holiday season with Lady Chops\, percussionist!\nHer exciting holiday program “Here Come the Bells\, So Many Bells” will have you rockin’ to holiday hits\nduring her high energy\, interactive one-woman drumming show for all ages!\nJoin us as we ring in the season with festive\, fun music for the whole family!
URL:https://cajuncoast.com/event/lady-chops-here-comes-the-bells-so-many-bells/
LOCATION:St. Mary Parish Library\, 206 Iberia Street\, Franklin\, LA\, 70538\, United States
ATTACH;FMTTYPE=image/jpeg:https://cajuncoast.com/wp-content/uploads/2024/11/Lady-Chops-e1732306809663.jpg
ORGANIZER;CN="St. Mary Parish Library":MAILTO:info@stmaryparishlibrary.org
END:VEVENT
BEGIN:VEVENT
DTSTART;TZID=America/Chicago:20240815T180000
DTEND;TZID=America/Chicago:20240815T200000
DTSTAMP:20260420T083820
CREATED:20240809T201753Z
LAST-MODIFIED:20240809T201753Z
UID:10002543-1723744800-1723752000@cajuncoast.com
SUMMARY:Discuss & Connect with OTABA Therapy & IAM_!
DESCRIPTION:Hosted by St. Mary Parish Library.\nAutism Advocates visit Franklin Library for a session to discuss OT/ABA Therapy.\nTopics include defining OT/ABA and outlining services like behavior therapy\, sensory therapy\,\nmotor therapy\, feeding therapy\, and lactation support.\nExplore their facility layout\, sample daily schedules\, enrollment procedures for your child\,\nand an interactive Q&A session. Adults are welcome to join at 6pm.
URL:https://cajuncoast.com/event/discuss-connect-with-otaba-therapy-iam_/
LOCATION:St. Mary Parish Library\, 206 Iberia Street\, Franklin\, LA\, 70538\, United States
ORGANIZER;CN="St. Mary Parish Library":MAILTO:info@stmaryparishlibrary.org
END:VEVENT
END:VCALENDAR