BEGIN:VCALENDAR
VERSION:2.0
PRODID:-//cajuncoast.com - ECPv6.15.20//NONSGML v1.0//EN
CALSCALE:GREGORIAN
METHOD:PUBLISH
X-WR-CALNAME:cajuncoast.com
X-ORIGINAL-URL:https://cajuncoast.com
X-WR-CALDESC:Events for cajuncoast.com
REFRESH-INTERVAL;VALUE=DURATION:PT1H
X-Robots-Tag:noindex
X-PUBLISHED-TTL:PT1H
BEGIN:VTIMEZONE
TZID:America/Chicago
BEGIN:DAYLIGHT
TZOFFSETFROM:-0600
TZOFFSETTO:-0500
TZNAME:CDT
DTSTART:20230312T080000
END:DAYLIGHT
BEGIN:STANDARD
TZOFFSETFROM:-0500
TZOFFSETTO:-0600
TZNAME:CST
DTSTART:20231105T070000
END:STANDARD
BEGIN:DAYLIGHT
TZOFFSETFROM:-0600
TZOFFSETTO:-0500
TZNAME:CDT
DTSTART:20240310T080000
END:DAYLIGHT
BEGIN:STANDARD
TZOFFSETFROM:-0500
TZOFFSETTO:-0600
TZNAME:CST
DTSTART:20241103T070000
END:STANDARD
BEGIN:DAYLIGHT
TZOFFSETFROM:-0600
TZOFFSETTO:-0500
TZNAME:CDT
DTSTART:20250309T080000
END:DAYLIGHT
BEGIN:STANDARD
TZOFFSETFROM:-0500
TZOFFSETTO:-0600
TZNAME:CST
DTSTART:20251102T070000
END:STANDARD
BEGIN:DAYLIGHT
TZOFFSETFROM:-0600
TZOFFSETTO:-0500
TZNAME:CDT
DTSTART:20260308T080000
END:DAYLIGHT
BEGIN:STANDARD
TZOFFSETFROM:-0500
TZOFFSETTO:-0600
TZNAME:CST
DTSTART:20261101T070000
END:STANDARD
END:VTIMEZONE
BEGIN:VEVENT
DTSTART;TZID=America/Chicago:20250717T170000
DTEND;TZID=America/Chicago:20250717T200000
DTSTAMP:20260422T084623
CREATED:20250617T204238Z
LAST-MODIFIED:20250617T205152Z
UID:10004998-1752771600-1752782400@cajuncoast.com
SUMMARY:Pottery & Permanent Jewelry
DESCRIPTION:Hosted by Sweet Tangerines Boutiques.\nIt’s the ultimate girls’ night out – come sip\, shop\, and create with them!\nMarshall Studio Pottery is bringing in their famous stemless margarita glasses for you\nto paint your own custom glaze design – perfect for sipping in style all summer long!\nPermanent Jewelry with Breezy Fever Loops. Treat yourself to a little sparkle with dainty\,\nclasp free jewelry you never have to take off. Choose from gold or silver chains and create your perfect forever piece!\nMargaritas on Them. They’ll be serving up complimentary margaritas to keep the vibes flowing while you shop\, paint\, and mingle!\nThere will be a Sweet Tangerines Gift Card Giveaway with any purchase during the event\, you’ll be entered to win a Sweet T gift card!
URL:https://cajuncoast.com/event/pottery-permanent-jewelry/
LOCATION:Sweet Tangerines Boutique\, 3103 First St.\, Berwick\, LA\, 70342\, United States
ATTACH;FMTTYPE=image/jpeg:https://cajuncoast.com/wp-content/uploads/2025/06/Sweet-Tangerines-Boutique-cjaun-coast-e1750192919940.jpg
ORGANIZER;CN="Sweet Tangerines Boutique":MAILTO:No email
END:VEVENT
BEGIN:VEVENT
DTSTART;TZID=America/Chicago:20250712T100000
DTEND;TZID=America/Chicago:20250712T140000
DTSTAMP:20260422T084623
CREATED:20250623T151946Z
LAST-MODIFIED:20250624T150506Z
UID:10004999-1752314400-1752328800@cajuncoast.com
SUMMARY:Sweet Tangerines Book Fair with Cavalier House Books
DESCRIPTION:They’re bringing a real bookstore experience to our small town – just for the day!\nJoin us as Cavalier House Books sets up a curated pop-up inside Sweet Tangerines\,\nfilled with thrillers\, romance\, fantasy\, and more. It’s the perfect chance to stock up on summer readings\,\nexplore new genres\, and discover your next book obsession.\nThink of it as your favorite bookshop landing in Berwick for the day-cozy\, fun\, and full of stories waiting to go home with you.
URL:https://cajuncoast.com/event/sweet-tangerines-book-fari-with-cavalier-house-books/
LOCATION:Sweet Tangerines Boutique\, 3103 First St.\, Berwick\, LA\, 70342\, United States
ATTACH;FMTTYPE=image/jpeg:https://cajuncoast.com/wp-content/uploads/2025/06/Sweet-Tangerines-cajun-coast-e1750691976926.jpg
ORGANIZER;CN="Sweet Tangerines Boutique":MAILTO:No email
END:VEVENT
BEGIN:VEVENT
DTSTART;TZID=America/Chicago:20250619T170000
DTEND;TZID=America/Chicago:20250619T200000
DTSTAMP:20260422T084623
CREATED:20250512T142501Z
LAST-MODIFIED:20250512T142501Z
UID:10004937-1750352400-1750363200@cajuncoast.com
SUMMARY:Color Analysis
DESCRIPTION:Hosted by Sweet Tangerines Boutique; 3103 First Street\, Berwick. Join Sweet Tangerines & Gabrielle Hebert!\nGabrielle will be offering color analysis. Color analysis deeply compares your undertones\, hair\, and eye color to\nfind the perfect palette for an individual’s coloring. The goal of color analysis is to identify the colors-particularly in\nclothing\, makeup\, and accessories-that most harmonize with a person’s natural coloring.\nComplimentary bubbly & wine. Chance to win a ST gift card with ST purchase.
URL:https://cajuncoast.com/event/color-analysis/
LOCATION:Sweet Tangerines Boutique\, 3103 First St.\, Berwick\, LA\, 70342\, United States
ATTACH;FMTTYPE=image/jpeg:https://cajuncoast.com/wp-content/uploads/2025/05/Third-Thursday-w.-Sweet-Tangerines-cajun-coast-e1747059874418.jpg
ORGANIZER;CN="Sweet Tangerines Boutique":MAILTO:No email
END:VEVENT
BEGIN:VEVENT
DTSTART;TZID=America/Chicago:20250607T100000
DTEND;TZID=America/Chicago:20250607T150000
DTSTAMP:20260422T084623
CREATED:20250509T162340Z
LAST-MODIFIED:20250509T162340Z
UID:10004921-1749290400-1749308400@cajuncoast.com
SUMMARY:Sweet Tangerines Birthday Party!
DESCRIPTION:Hosted by Sweet Tangerines Boutique.\nCelebrate a book themed party with them as they celebrate turning four!\nShop four curated collections inspired by their favorite books!\nBookish merch and inspired outfits\, complimentary bubbly and sweet treat!
URL:https://cajuncoast.com/event/sweet-tangerines-birthday-party/
LOCATION:Sweet Tangerines Boutique\, 3103 First St.\, Berwick\, LA\, 70342\, United States
ATTACH;FMTTYPE=image/jpeg:https://cajuncoast.com/wp-content/uploads/2025/04/Sweet-Tangerines-is-Turning-Four-cajun-coast-e1746807810581.jpg
ORGANIZER;CN="Sweet Tangerines Boutique":MAILTO:No email
END:VEVENT
BEGIN:VEVENT
DTSTART;TZID=America/Chicago:20250508T170000
DTEND;TZID=America/Chicago:20250508T200000
DTSTAMP:20260422T084623
CREATED:20250424T212845Z
LAST-MODIFIED:20250424T212845Z
UID:10004915-1746723600-1746734400@cajuncoast.com
SUMMARY:Sweet Tangerines Boutique & Travis John Designs
DESCRIPTION:Come and celebrate so many things at Sweet Tangerines!\nMake a bouquet for your mom\, for a graduate\, a friend\, or your special someone!\nTravis will be hosting a bouquet bar with pre-made bouquets as well.\nSweet Tangerines will have some floral gift items for Mother’s Day!
URL:https://cajuncoast.com/event/sweet-tangerines-boutique-travis-john-designs/
LOCATION:Sweet Tangerines Boutique\, 3103 First St.\, Berwick\, LA\, 70342\, United States
ATTACH;FMTTYPE=image/jpeg:https://cajuncoast.com/wp-content/uploads/2025/04/Swet-Tangerines-boutique-Travis-John-Designs-cajun-coast-e1745530107267.jpg
ORGANIZER;CN="Sweet Tangerines Boutique":MAILTO:No email
END:VEVENT
BEGIN:VEVENT
DTSTART;TZID=America/Chicago:20250417T170000
DTEND;TZID=America/Chicago:20250417T200000
DTSTAMP:20260422T084623
CREATED:20250404T200239Z
LAST-MODIFIED:20250404T200239Z
UID:10004802-1744909200-1744920000@cajuncoast.com
SUMMARY:Sweet Tangerines & Honey Spa
DESCRIPTION:Hosted by Sweet Tangerines Boutique; 3103 First St. Self-care and shopping.\nJoin us from 5 pm to 8 pm for Third Thursday of Sweet Tangerines Boutique!\nThey are partnering with Honey Spa to bring you on-the-spot beauty services\,\nincluding brow tints\, lash lifts\, waxing\, and relaxing messages!
URL:https://cajuncoast.com/event/sweet-tangerines-honey-spa/
LOCATION:Sweet Tangerines Boutique\, 3103 First St.\, Berwick\, LA\, 70342\, United States
ATTACH;FMTTYPE=image/jpeg:https://cajuncoast.com/wp-content/uploads/2025/04/Sweet-Tangerines-Spa-cajun-coast-e1743796948395.jpg
ORGANIZER;CN="Sweet Tangerines Boutique":MAILTO:No email
END:VEVENT
BEGIN:VEVENT
DTSTART;TZID=America/Chicago:20250213T170000
DTEND;TZID=America/Chicago:20250213T200000
DTSTAMP:20260422T084623
CREATED:20250128T153752Z
LAST-MODIFIED:20250128T153752Z
UID:10004328-1739466000-1739476800@cajuncoast.com
SUMMARY:Galentine’s Night
DESCRIPTION:Hosted by Sweet Tangerines Boutique.\nFun Night with your gals!\nGrab your closest galantine’s & come spend a few hours with Sweet Tangerines!\nThey will have bubbly & sweet treats on them\, along with a surprise discount & possible pop-up vendor.
URL:https://cajuncoast.com/event/galentines-night/
LOCATION:Sweet Tangerines Boutique\, 3103 First St.\, Berwick\, LA\, 70342\, United States
ATTACH;FMTTYPE=image/jpeg:https://cajuncoast.com/wp-content/uploads/2025/01/Galentiness-Night-Cajun-Coast-e1738078661983.jpg
ORGANIZER;CN="Sweet Tangerines Boutique":MAILTO:No email
END:VEVENT
BEGIN:VEVENT
DTSTART;TZID=America/Chicago:20241129T100000
DTEND;TZID=America/Chicago:20241129T130000
DTSTAMP:20260422T084623
CREATED:20241122T201746Z
LAST-MODIFIED:20241126T173835Z
UID:10003954-1732874400-1732885200@cajuncoast.com
SUMMARY:Black Friday with Sweet Tangerines
DESCRIPTION:Join us for a morning of incredible deals\, festive vibes\, and delicious treats at Sweet Tangerines!\nExclusive Black Friday discounts on your favorite boutique styles.\nComplimentary coffee and donuts to fuel your shopping spree.\nThe perfect opportunity to check off your holiday shopping list.\nDon’t miss out—items are limited!\nGather your friends and make it a fun start to your holiday shopping season.\nWe can’t wait to see you!
URL:https://cajuncoast.com/event/black-friday-with-sweet-tangerines/
LOCATION:Sweet Tangerines Boutique\, 3103 First St.\, Berwick\, LA\, 70342\, United States
ATTACH;FMTTYPE=image/jpeg:https://cajuncoast.com/wp-content/uploads/2024/11/Sweet-Tangerines-e1732642698311.jpg
ORGANIZER;CN="Sweet Tangerines Boutique":MAILTO:No email
END:VEVENT
BEGIN:VEVENT
DTSTART;TZID=America/Chicago:20240928T100000
DTEND;TZID=America/Chicago:20240928T130000
DTSTAMP:20260422T084623
CREATED:20240906T204828Z
LAST-MODIFIED:20240906T204828Z
UID:10002790-1727517600-1727528400@cajuncoast.com
SUMMARY:Charms and Coffee with Sweet Tangerines
DESCRIPTION:Hosted by Sweet Tangerines Boutique.\nExcited to launch a new addition to the charm bar! Charm bookmarks!\nCome make your charm bookmark and get a coffee from The Daily Dose\, they’ll be set up inside the store!
URL:https://cajuncoast.com/event/charms-and-coffee-with-sweet-tangerines/
LOCATION:Sweet Tangerines Boutique\, 3103 First St.\, Berwick\, LA\, 70342\, United States
ATTACH;FMTTYPE=image/jpeg:https://cajuncoast.com/wp-content/uploads/2024/09/Charms-and-Coffee-with-Sweet-Tangerines-e1725655699265.jpg
ORGANIZER;CN="Sweet Tangerines Boutique":MAILTO:No email
END:VEVENT
BEGIN:VEVENT
DTSTART;TZID=America/Chicago:20240601T160000
DTEND;TZID=America/Chicago:20240601T200000
DTSTAMP:20260422T084623
CREATED:20240523T155456Z
LAST-MODIFIED:20240523T155456Z
UID:10001927-1717257600-1717272000@cajuncoast.com
SUMMARY:Sweet Tangerines Boutique Turns 3!
DESCRIPTION:Come celebrate with us with raffles\, drinks\, and celebrations!\nWe hope to see you there!
URL:https://cajuncoast.com/event/sweet-tangerines-boutique-turns-3/
LOCATION:Sweet Tangerines Boutique\, 3103 First St.\, Berwick\, LA\, 70342\, United States
ATTACH;FMTTYPE=image/jpeg:https://cajuncoast.com/wp-content/uploads/2024/05/Sweet-Tangerines-Boutique-turns-3.jpg
ORGANIZER;CN="Sweet Tangerines Boutique":MAILTO:No email
END:VEVENT
END:VCALENDAR